BEGIN:VCALENDAR
VERSION:2.0
PRODID:-//National Fuel Gas Company - ECPv6.15.20//NONSGML v1.0//EN
CALSCALE:GREGORIAN
METHOD:PUBLISH
X-WR-CALNAME:National Fuel Gas Company
X-ORIGINAL-URL:https://www.nationalfuel.com
X-WR-CALDESC:Events for National Fuel Gas Company
REFRESH-INTERVAL;VALUE=DURATION:PT1H
X-Robots-Tag:noindex
X-PUBLISHED-TTL:PT1H
BEGIN:VTIMEZONE
TZID:America/New_York
BEGIN:DAYLIGHT
TZOFFSETFROM:-0500
TZOFFSETTO:-0400
TZNAME:EDT
DTSTART:20250309T070000
END:DAYLIGHT
BEGIN:STANDARD
TZOFFSETFROM:-0400
TZOFFSETTO:-0500
TZNAME:EST
DTSTART:20251102T060000
END:STANDARD
BEGIN:DAYLIGHT
TZOFFSETFROM:-0500
TZOFFSETTO:-0400
TZNAME:EDT
DTSTART:20260308T070000
END:DAYLIGHT
BEGIN:STANDARD
TZOFFSETFROM:-0400
TZOFFSETTO:-0500
TZNAME:EST
DTSTART:20261101T060000
END:STANDARD
BEGIN:DAYLIGHT
TZOFFSETFROM:-0500
TZOFFSETTO:-0400
TZNAME:EDT
DTSTART:20270314T070000
END:DAYLIGHT
BEGIN:STANDARD
TZOFFSETFROM:-0400
TZOFFSETTO:-0500
TZNAME:EST
DTSTART:20271107T060000
END:STANDARD
END:VTIMEZONE
BEGIN:VEVENT
DTSTART;TZID=America/New_York:20260408T090000
DTEND;TZID=America/New_York:20260408T140000
DTSTAMP:20260419T154353
CREATED:20260318T155200Z
LAST-MODIFIED:20260318T155306Z
UID:10002656-1775638800-1775656800@www.nationalfuel.com
SUMMARY:Erie UPMC Neighborhood Center
DESCRIPTION:Stop by to talk with a National Fuel representative about the resources available to help manage your energy costs.
URL:https://www.nationalfuel.com/event/erie-upmc-neighborhood-center-5/
LOCATION:UPMC Health Plan Neighborhood Center – Erie\, 803 East Ave\, Erie\, PA\, 16503\, United States
CATEGORIES:Pennsylvania
END:VEVENT
BEGIN:VEVENT
DTSTART;TZID=America/New_York:20260409T083000
DTEND;TZID=America/New_York:20260409T163000
DTSTAMP:20260419T154353
CREATED:20260318T155601Z
LAST-MODIFIED:20260318T155602Z
UID:10002657-1775723400-1775752200@www.nationalfuel.com
SUMMARY:3rd Annual Sexual Assault Response Conference
DESCRIPTION:Stop by to talk with a National Fuel representative about the resources available to help manage your energy costs.
URL:https://www.nationalfuel.com/event/3rd-annual-sexual-assault-response-conference/
LOCATION:Pogue Student Center\, 405 Scotland Road\, Edinboro\, PA\, 16444\, United States
CATEGORIES:Pennsylvania
END:VEVENT
BEGIN:VEVENT
DTSTART;TZID=America/New_York:20260409T100000
DTEND;TZID=America/New_York:20260409T140000
DTSTAMP:20260419T154353
CREATED:20260317T204929Z
LAST-MODIFIED:20260317T204936Z
UID:10002650-1775728800-1775743200@www.nationalfuel.com
SUMMARY:Resource Council of WNY
DESCRIPTION:You are invited to speak with a National Fuel Representative to talk about the resources available to help manage your energy costs. We are available to assist customers with invoice questions as well as: \n·        EAP Application/Enrollment \n·        Deferred Payment Agreements \n·        Budget Plan \n·        Neighbor for Neighbor
URL:https://www.nationalfuel.com/event/resource-council-of-wny-44/
LOCATION:Resource Council of WNY\, 347 East Ferry Street\, Buffalo\, NY\, 14208\, United States
CATEGORIES:New York
ORGANIZER;CN="National Fuel Outreach":MAILTO:NFG_Outreach@natfuel.com
END:VEVENT
END:VCALENDAR