BEGIN:VCALENDAR
VERSION:2.0
PRODID:-//National Fuel Gas Company - ECPv6.15.20//NONSGML v1.0//EN
CALSCALE:GREGORIAN
METHOD:PUBLISH
X-ORIGINAL-URL:https://www.nationalfuel.com
X-WR-CALDESC:Events for National Fuel Gas Company
REFRESH-INTERVAL;VALUE=DURATION:PT1H
X-Robots-Tag:noindex
X-PUBLISHED-TTL:PT1H
BEGIN:VTIMEZONE
TZID:America/New_York
BEGIN:DAYLIGHT
TZOFFSETFROM:-0500
TZOFFSETTO:-0400
TZNAME:EDT
DTSTART:20250309T070000
END:DAYLIGHT
BEGIN:STANDARD
TZOFFSETFROM:-0400
TZOFFSETTO:-0500
TZNAME:EST
DTSTART:20251102T060000
END:STANDARD
BEGIN:DAYLIGHT
TZOFFSETFROM:-0500
TZOFFSETTO:-0400
TZNAME:EDT
DTSTART:20260308T070000
END:DAYLIGHT
BEGIN:STANDARD
TZOFFSETFROM:-0400
TZOFFSETTO:-0500
TZNAME:EST
DTSTART:20261101T060000
END:STANDARD
BEGIN:DAYLIGHT
TZOFFSETFROM:-0500
TZOFFSETTO:-0400
TZNAME:EDT
DTSTART:20270314T070000
END:DAYLIGHT
BEGIN:STANDARD
TZOFFSETFROM:-0400
TZOFFSETTO:-0500
TZNAME:EST
DTSTART:20271107T060000
END:STANDARD
END:VTIMEZONE
BEGIN:VEVENT
DTSTART;TZID=America/New_York:20260316T090000
DTEND;TZID=America/New_York:20260316T140000
DTSTAMP:20260425T100833
CREATED:20260224T193520Z
LAST-MODIFIED:20260224T193520Z
UID:10002647-1773651600-1773669600@www.nationalfuel.com
SUMMARY:UPMC Health Plan Neighborhood Center - Erie
DESCRIPTION:Stop by to talk with a National Fuel representative about the resources available to help manage your energy costs.
URL:https://www.nationalfuel.com/event/upmc-health-plan-neighborhood-center-erie-12/
LOCATION:UPMC Health Plan Neighborhood Center – Erie\, 803 East Ave\, Erie\, PA\, 16503\, United States
CATEGORIES:Pennsylvania
END:VEVENT
BEGIN:VEVENT
DTSTART;TZID=America/New_York:20260317T100000
DTEND;TZID=America/New_York:20260317T140000
DTSTAMP:20260425T100833
CREATED:20260317T204729Z
LAST-MODIFIED:20260317T204734Z
UID:10002639-1773741600-1773756000@www.nationalfuel.com
SUMMARY:ROC
DESCRIPTION:Representatives from the Erie County HEAP office will be onsite to provide information regarding the HEAP season. \nYou are also invited to speak with a National Fuel Representative to talk about the resources available to help manage your energy costs. We are available to assist customers with invoice questions as well as: \n·        EAP Application/Enrollment \n·        Deferred Payment Agreements \n·        Budget Plan \n·        Neighbor for Neighbor
URL:https://www.nationalfuel.com/event/roc/
LOCATION:Rural Outreach Center\, 730 Olean Rd\, East Aurora\, NY\, 14052\, United States
ORGANIZER;CN="National Fuel Outreach":MAILTO:NFG_Outreach@natfuel.com
END:VEVENT
BEGIN:VEVENT
DTSTART;TZID=America/New_York:20260317T100000
DTEND;TZID=America/New_York:20260317T140000
DTSTAMP:20260425T100833
CREATED:20260317T204754Z
LAST-MODIFIED:20260317T204759Z
UID:10002640-1773741600-1773756000@www.nationalfuel.com
SUMMARY:Hubert Library
DESCRIPTION:Representatives from the Erie County HEAP office will be onsite to provide information regarding the HEAP season. \nYou are also invited to speak with a National Fuel Representative to talk about the resources available to help manage your energy costs. We are available to assist customers with invoice questions as well as: \n·        EAP Application/Enrollment \n·        Deferred Payment Agreements \n·        Budget Plan \n·        Neighbor for Neighbor
URL:https://www.nationalfuel.com/event/hubert-library/
LOCATION:Hubert Library\, 18 Chapel St.\, Springville\, NY\, 14141\, United States
ORGANIZER;CN="National Fuel Outreach":MAILTO:NFG_Outreach@natfuel.com
END:VEVENT
BEGIN:VEVENT
DTSTART;TZID=America/New_York:20260318T100000
DTEND;TZID=America/New_York:20260318T150000
DTSTAMP:20260425T100833
CREATED:20260217T125646Z
LAST-MODIFIED:20260217T125651Z
UID:10002635-1773828000-1773846000@www.nationalfuel.com
SUMMARY:Boston Town Hall
DESCRIPTION:Representatives from the Erie County HEAP office will be onsite to provide information regarding the HEAP season. \nYou are also invited to speak with a National Fuel Representative to talk about the resources available to help manage your energy costs. We are available to assist customers with invoice questions as well as: \n·        EAP Application/Enrollment \n·        Deferred Payment Agreements \n·        Budget Plan \n·        Neighbor for Neighbor
URL:https://www.nationalfuel.com/event/boston-town-hall-3/
LOCATION:Boston Town Hall\, 8500 Boston State Rd\, Boston\, NY\, 14025\, United States
CATEGORIES:New York
ORGANIZER;CN="National Fuel Outreach":MAILTO:NFG_Outreach@natfuel.com
END:VEVENT
BEGIN:VEVENT
DTSTART;TZID=America/New_York:20260319T090000
DTEND;TZID=America/New_York:20260319T140000
DTSTAMP:20260425T100833
CREATED:20260220T191000Z
LAST-MODIFIED:20260220T191008Z
UID:10002644-1773910800-1773928800@www.nationalfuel.com
SUMMARY:UPMC Health Plan Neighborhood Center - Erie
DESCRIPTION:Stop by to talk with a National Fuel representative about the resources available to help manage your energy costs.
URL:https://www.nationalfuel.com/event/upmc-health-plan-neighborhood-center-erie-9/
LOCATION:UPMC Health Plan Neighborhood Center – Erie\, 803 East Ave\, Erie\, PA\, 16503\, United States
CATEGORIES:Pennsylvania
END:VEVENT
BEGIN:VEVENT
DTSTART;TZID=America/New_York:20260320T110000
DTEND;TZID=America/New_York:20260320T153000
DTSTAMP:20260425T100833
CREATED:20260217T125344Z
LAST-MODIFIED:20260217T125349Z
UID:10002630-1774004400-1774020600@www.nationalfuel.com
SUMMARY:Erie County HEAP Office
DESCRIPTION:You are invited to speak with a National Fuel Representative to talk about the resources available to help manage your energy costs. We are available to assist customers with invoice questions as well as: \n·        EAP Application/Enrollment \n·        Deferred Payment Agreements \n·        Budget Plan \n·        Neighbor for Neighbor
URL:https://www.nationalfuel.com/event/erie-county-heap-office-16/
LOCATION:Erie County HEAP Office\, 460 Main St\, Buffalo\, NY\, 14202\, United States
CATEGORIES:New York
ORGANIZER;CN="National Fuel Outreach":MAILTO:NFG_Outreach@natfuel.com
END:VEVENT
BEGIN:VEVENT
DTSTART;TZID=America/New_York:20260321T110000
DTEND;TZID=America/New_York:20260321T140000
DTSTAMP:20260425T100833
CREATED:20260317T204842Z
LAST-MODIFIED:20260317T204847Z
UID:10002648-1774090800-1774101600@www.nationalfuel.com
SUMMARY:AppleTree Walk In Center - National Fuel & HEAP Special Event
DESCRIPTION:National Fuel is teaming up with the Erie County HEAP Office for a Special Event at the AppleTree Customer Walk-in Center! \nNational Fuel representatives will be available to discuss account related questions or to assist with making a payment.  The Erie County HEAP outreach team will be onsite to assist with application processing and answer your HEAP related questions.  Basic HEAP grants of $496.00 are available and (1) $400.00 emergency benefit is available for those who qualify. \nStop in and see us to get the support you need!
URL:https://www.nationalfuel.com/event/appletree-walk-in-center-national-fuel-heap-special-event/
LOCATION:AppleTree Walk in Center\, 2875 Union Rd. Ste. 44\, Cheektowaga\, NY\, 14227\, United States
ORGANIZER;CN="National Fuel Outreach":MAILTO:NFG_Outreach@natfuel.com
END:VEVENT
END:VCALENDAR