BEGIN:VCALENDAR
VERSION:2.0
PRODID:-//National Fuel Gas Company - ECPv6.15.20//NONSGML v1.0//EN
CALSCALE:GREGORIAN
METHOD:PUBLISH
X-ORIGINAL-URL:https://www.nationalfuel.com
X-WR-CALDESC:Events for National Fuel Gas Company
REFRESH-INTERVAL;VALUE=DURATION:PT1H
X-Robots-Tag:noindex
X-PUBLISHED-TTL:PT1H
BEGIN:VTIMEZONE
TZID:America/New_York
BEGIN:DAYLIGHT
TZOFFSETFROM:-0500
TZOFFSETTO:-0400
TZNAME:EDT
DTSTART:20240310T070000
END:DAYLIGHT
BEGIN:STANDARD
TZOFFSETFROM:-0400
TZOFFSETTO:-0500
TZNAME:EST
DTSTART:20241103T060000
END:STANDARD
BEGIN:DAYLIGHT
TZOFFSETFROM:-0500
TZOFFSETTO:-0400
TZNAME:EDT
DTSTART:20250309T070000
END:DAYLIGHT
BEGIN:STANDARD
TZOFFSETFROM:-0400
TZOFFSETTO:-0500
TZNAME:EST
DTSTART:20251102T060000
END:STANDARD
BEGIN:DAYLIGHT
TZOFFSETFROM:-0500
TZOFFSETTO:-0400
TZNAME:EDT
DTSTART:20260308T070000
END:DAYLIGHT
BEGIN:STANDARD
TZOFFSETFROM:-0400
TZOFFSETTO:-0500
TZNAME:EST
DTSTART:20261101T060000
END:STANDARD
END:VTIMEZONE
BEGIN:VEVENT
DTSTART;TZID=America/New_York:20250716T150000
DTEND;TZID=America/New_York:20250716T190000
DTSTAMP:20260420T063940
CREATED:20250627T122925Z
LAST-MODIFIED:20250627T122931Z
UID:10002286-1752678000-1752692400@www.nationalfuel.com
SUMMARY:716 CommUNITY Day
DESCRIPTION:Come out and enjoy a day filled with joy\, support\, and togetherness. Whether you’re coming for the food\, the fun\, or the community resources—we can’t wait to see you there! \nYou are also invited to speak with a National Fuel Representative to talk about the resources available to help manage your energy costs. We are available to assist customers with invoice questions as well as: \n·        EAP Application/Enrollment \n·        Deferred Payment Agreements \n·        Budget Plan \n·        Neighbor for Neighbor
URL:https://www.nationalfuel.com/event/716-community-day/
LOCATION:NY
CATEGORIES:New York
END:VEVENT
BEGIN:VEVENT
DTSTART;TZID=America/New_York:20250717T100000
DTEND;TZID=America/New_York:20250717T140000
DTSTAMP:20260420T063940
CREATED:20250627T122820Z
LAST-MODIFIED:20250627T122826Z
UID:10002285-1752746400-1752760800@www.nationalfuel.com
SUMMARY:Downtown Country Market
DESCRIPTION:The Market provides residents and visitors in Buffalo with a delightful shopping experience\, featuring a wide variety of products including the freshest fruits and vegetables\, unique specialty food items\, home-made bath products\, and more. \nYou are also invited to speak with a National Fuel Representative to talk about the resources available to help manage your energy costs. We are available to assist customers with invoice questions as well as: \n·        EAP Application/Enrollment \n·        Deferred Payment Agreements \n·        Budget Plan \n·        Neighbor for Neighbor
URL:https://www.nationalfuel.com/event/downtown-country-market-5/
LOCATION:Downtown Country Market\, 575 Main Street\, Buffalo\, NY\, 14203\, United States
CATEGORIES:New York
ORGANIZER;CN="National Fuel Outreach":MAILTO:NFG_Outreach@natfuel.com
END:VEVENT
BEGIN:VEVENT
DTSTART;TZID=America/New_York:20250717T170000
DTEND;TZID=America/New_York:20250717T183000
DTSTAMP:20260420T063940
CREATED:20250627T122953Z
LAST-MODIFIED:20250627T122959Z
UID:10002287-1752771600-1752777000@www.nationalfuel.com
SUMMARY:Akron Newstead Senior Center
DESCRIPTION:Free Health and Wellness event to the community happening at Akron Newstead Senior Center.\nYou are also invited to speak with a National Fuel Representative to talk about the resources available to help manage your energy costs. We are available to assist customers with invoice questions as well as: \n·        EAP Application/Enrollment \n·        Deferred Payment Agreements \n·        Budget Plan \n·        Neighbor for Neighbor
URL:https://www.nationalfuel.com/event/akron-newstead-senior-center-3/
LOCATION:Akron Newstead Senior Citizens\, 5691 Cummings Rd\, Akron\, NY\, 14001\, United States
CATEGORIES:New York
ORGANIZER;CN="National Fuel Outreach":MAILTO:NFG_Outreach@natfuel.com
END:VEVENT
BEGIN:VEVENT
DTSTART;TZID=America/New_York:20250718T100000
DTEND;TZID=America/New_York:20250718T130000
DTSTAMP:20260420T063940
CREATED:20250716T172944Z
LAST-MODIFIED:20250716T173111Z
UID:10002281-1752832800-1752843600@www.nationalfuel.com
SUMMARY:Mercer Health Fair and Senior Expo
DESCRIPTION:Representative Parke Wentling Health Fair and Senior Expo \nStop by National Fuel’s table to talk with a representative about the resources available to help manage your energy costs.
URL:https://www.nationalfuel.com/event/mercer-health-fair-and-senior-expo/
LOCATION:Hermitage VFW\, 5550 E State St\, Hermitage\, PA\, 16148\, United States
CATEGORIES:Pennsylvania
END:VEVENT
BEGIN:VEVENT
DTSTART;TZID=America/New_York:20250718T100000
DTEND;TZID=America/New_York:20250718T140000
DTSTAMP:20260420T063940
CREATED:20250714T120810Z
LAST-MODIFIED:20250714T120822Z
UID:10002292-1752832800-1752847200@www.nationalfuel.com
SUMMARY:Taste of Faith Food Pantry
DESCRIPTION:You are invited to speak with a National Fuel Representative to talk about the resources available to help manage your energy costs. We are available to assist customers with invoice questions as well as: \n·        EAP Application/Enrollment \n·        Deferred Payment Agreements \n·        Budget Plan \n·        Neighbor for Neighbor
URL:https://www.nationalfuel.com/event/taste-of-faith-food-pantry-16/
LOCATION:Taste of Faith Food Pantry\, 594 Winslow Ave\, Buffalo\, NY\, 14211\, United States
CATEGORIES:New York
ORGANIZER;CN="National Fuel Outreach":MAILTO:NFG_Outreach@natfuel.com
END:VEVENT
BEGIN:VEVENT
DTSTART;TZID=America/New_York:20250719T120000
DTEND;TZID=America/New_York:20250719T150000
DTSTAMP:20260420T063940
CREATED:20250714T120841Z
LAST-MODIFIED:20250714T120847Z
UID:10002294-1752926400-1752937200@www.nationalfuel.com
SUMMARY:Roots & Rhythm Community Garden Party
DESCRIPTION:Join us for a fun-filled day of music\, food\, and community vibes at the Roots & Rhythm Community Garden Party! \nYou are also invited to speak with a National Fuel Representative to talk about the resources available to help manage your energy costs. We are available to assist customers with invoice questions as well as: \n·        EAP Application/Enrollment \n·        Deferred Payment Agreements \n·        Budget Plan \n·        Neighbor for Neighbor
URL:https://www.nationalfuel.com/event/roots-rhythm-community-garden-party/
LOCATION:Community Garden and Outdoor Learning Lab\, 91 Winslow Avenue\, Buffalo\, NY\, 14208\, United States
CATEGORIES:New York
ORGANIZER;CN="National Fuel Outreach":MAILTO:NFG_Outreach@natfuel.com
END:VEVENT
END:VCALENDAR