BEGIN:VCALENDAR
VERSION:2.0
PRODID:-//National Fuel Gas Company - ECPv6.15.20//NONSGML v1.0//EN
CALSCALE:GREGORIAN
METHOD:PUBLISH
X-WR-CALNAME:National Fuel Gas Company
X-ORIGINAL-URL:https://www.nationalfuel.com
X-WR-CALDESC:Events for National Fuel Gas Company
REFRESH-INTERVAL;VALUE=DURATION:PT1H
X-Robots-Tag:noindex
X-PUBLISHED-TTL:PT1H
BEGIN:VTIMEZONE
TZID:America/New_York
BEGIN:DAYLIGHT
TZOFFSETFROM:-0500
TZOFFSETTO:-0400
TZNAME:EDT
DTSTART:20240310T070000
END:DAYLIGHT
BEGIN:STANDARD
TZOFFSETFROM:-0400
TZOFFSETTO:-0500
TZNAME:EST
DTSTART:20241103T060000
END:STANDARD
BEGIN:DAYLIGHT
TZOFFSETFROM:-0500
TZOFFSETTO:-0400
TZNAME:EDT
DTSTART:20250309T070000
END:DAYLIGHT
BEGIN:STANDARD
TZOFFSETFROM:-0400
TZOFFSETTO:-0500
TZNAME:EST
DTSTART:20251102T060000
END:STANDARD
BEGIN:DAYLIGHT
TZOFFSETFROM:-0500
TZOFFSETTO:-0400
TZNAME:EDT
DTSTART:20260308T070000
END:DAYLIGHT
BEGIN:STANDARD
TZOFFSETFROM:-0400
TZOFFSETTO:-0500
TZNAME:EST
DTSTART:20261101T060000
END:STANDARD
END:VTIMEZONE
BEGIN:VEVENT
DTSTART;TZID=America/New_York:20250218T133000
DTEND;TZID=America/New_York:20250218T153000
DTSTAMP:20260425T180515
CREATED:20250129T213038Z
LAST-MODIFIED:20250129T213044Z
UID:10002178-1739885400-1739892600@www.nationalfuel.com
SUMMARY:Dorothy J. Collier Community Center - Friends\, Inc.
DESCRIPTION:**HEAP Outreach will have Regular benefit applications available for the 2024/2025 HEAP Season. \nYou are also invited to speak with a National Fuel Representative to talk about the resources available to help manage your energy costs. We are available to assist customers with invoice questions as well as: \n·        EAP Application/Enrollment \n·        Deferred Payment Agreements \n·        Budget Plan \n·        Neighbor for Neighbor
URL:https://www.nationalfuel.com/event/dorothy-j-collier-community-center-friends-inc/
LOCATION:Dorothy J. Collier Community Center\, 118 E. Utica St\, Buffalo\, NY\, 14209\, United States
CATEGORIES:New York
ORGANIZER;CN="National Fuel Outreach":MAILTO:NFG_Outreach@natfuel.com
END:VEVENT
BEGIN:VEVENT
DTSTART;TZID=America/New_York:20250219T100000
DTEND;TZID=America/New_York:20250219T140000
DTSTAMP:20260425T180515
CREATED:20250129T213306Z
LAST-MODIFIED:20250129T213312Z
UID:10002183-1739959200-1739973600@www.nationalfuel.com
SUMMARY:Taste of Faith Food Pantry
DESCRIPTION:You are invited to speak with a National Fuel Representative to talk about the resources available to help manage your energy costs. We are available to assist customers with invoice questions as well as: \n·        EAP Application/Enrollment \n·        Deferred Payment Agreements \n·        Budget Plan \n·        Neighbor for Neighbor
URL:https://www.nationalfuel.com/event/taste-of-faith-food-pantry-8/
LOCATION:Taste of Faith Food Pantry\, 594 Winslow Ave\, Buffalo\, NY\, 14211\, United States
CATEGORIES:New York
ORGANIZER;CN="National Fuel Outreach":MAILTO:NFG_Outreach@natfuel.com
END:VEVENT
BEGIN:VEVENT
DTSTART;TZID=America/New_York:20250220T100000
DTEND;TZID=America/New_York:20250220T140000
DTSTAMP:20260425T180515
CREATED:20250129T213118Z
LAST-MODIFIED:20250129T213127Z
UID:10002179-1740045600-1740060000@www.nationalfuel.com
SUMMARY:Resource Council of WNY
DESCRIPTION:You are invited to speak with a National Fuel Representative to talk about the resources available to help manage your energy costs. We are available to assist customers with invoice questions as well as: \n·        EAP Application/Enrollment \n·        Deferred Payment Agreements \n·        Budget Plan \n·        Neighbor for Neighbor
URL:https://www.nationalfuel.com/event/resource-council-of-wny-18/
LOCATION:Resource Council of WNY\, 347 East Ferry Street\, Buffalo\, NY\, 14208\, United States
CATEGORIES:New York
ORGANIZER;CN="National Fuel Outreach":MAILTO:NFG_Outreach@natfuel.com
END:VEVENT
BEGIN:VEVENT
DTSTART;TZID=America/New_York:20250220T110000
DTEND;TZID=America/New_York:20250220T160000
DTSTAMP:20260425T180515
CREATED:20250129T213143Z
LAST-MODIFIED:20250129T213148Z
UID:10002180-1740049200-1740067200@www.nationalfuel.com
SUMMARY:Central Library Downtown
DESCRIPTION:**HEAP Outreach will have Regular benefit applications available for the 2024/2025 HEAP Season. \nYou are also invited to speak with a National Fuel Representative to talk about the resources available to help manage your energy costs. We are available to assist customers with invoice questions as well as: \n·        EAP Application/Enrollment \n·        Deferred Payment Agreements \n·        Budget Plan \n·        Neighbor for Neighbor
URL:https://www.nationalfuel.com/event/central-library-downtown-4/
LOCATION:Buffalo & Erie County Public Library\, 1 Lafayette Sq\, Buffalo\, NY\, 14203\, United States
CATEGORIES:New York
ORGANIZER;CN="National Fuel Outreach":MAILTO:NFG_Outreach@natfuel.com
END:VEVENT
END:VCALENDAR