BEGIN:VCALENDAR
VERSION:2.0
PRODID:-//National Fuel Gas Company - ECPv6.15.20//NONSGML v1.0//EN
CALSCALE:GREGORIAN
METHOD:PUBLISH
X-ORIGINAL-URL:https://www.nationalfuel.com
X-WR-CALDESC:Events for National Fuel Gas Company
REFRESH-INTERVAL;VALUE=DURATION:PT1H
X-Robots-Tag:noindex
X-PUBLISHED-TTL:PT1H
BEGIN:VTIMEZONE
TZID:America/New_York
BEGIN:DAYLIGHT
TZOFFSETFROM:-0500
TZOFFSETTO:-0400
TZNAME:EDT
DTSTART:20240310T070000
END:DAYLIGHT
BEGIN:STANDARD
TZOFFSETFROM:-0400
TZOFFSETTO:-0500
TZNAME:EST
DTSTART:20241103T060000
END:STANDARD
BEGIN:DAYLIGHT
TZOFFSETFROM:-0500
TZOFFSETTO:-0400
TZNAME:EDT
DTSTART:20250309T070000
END:DAYLIGHT
BEGIN:STANDARD
TZOFFSETFROM:-0400
TZOFFSETTO:-0500
TZNAME:EST
DTSTART:20251102T060000
END:STANDARD
BEGIN:DAYLIGHT
TZOFFSETFROM:-0500
TZOFFSETTO:-0400
TZNAME:EDT
DTSTART:20260308T070000
END:DAYLIGHT
BEGIN:STANDARD
TZOFFSETFROM:-0400
TZOFFSETTO:-0500
TZNAME:EST
DTSTART:20261101T060000
END:STANDARD
END:VTIMEZONE
BEGIN:VEVENT
DTSTART;TZID=America/New_York:20250127T100000
DTEND;TZID=America/New_York:20250127T140000
DTSTAMP:20260425T130935
CREATED:20241029T115942Z
LAST-MODIFIED:20241223T141142Z
UID:10002161-1737972000-1737986400@www.nationalfuel.com
SUMMARY:Erie County HEAP Office
DESCRIPTION:You are invited to speak with a National Fuel Representative to talk about the resources available to help manage your energy costs. We are available to assist customers with invoice questions as well as: \n·        EAP Application/Enrollment \n·        Deferred Payment Agreements \n·        Budget Plan \n·        Neighbor for Neighbor
URL:https://www.nationalfuel.com/event/erie-county-heap-office-7/2025-01-27/
LOCATION:Erie County HEAP Office\, 460 Main St\, Buffalo\, NY\, 14202\, United States
CATEGORIES:New York
ORGANIZER;CN="National Fuel Outreach":MAILTO:NFG_Outreach@natfuel.com
END:VEVENT
BEGIN:VEVENT
DTSTART;TZID=America/New_York:20250129T140000
DTEND;TZID=America/New_York:20250129T190000
DTSTAMP:20260425T130935
CREATED:20250114T182554Z
LAST-MODIFIED:20250114T182609Z
UID:10002169-1738159200-1738177200@www.nationalfuel.com
SUMMARY:Rural Outreach Center
DESCRIPTION:**HEAP Outreach will have Regular benefit applications available for the 2024/2025 HEAP Season. \nYou are also invited to speak with a National Fuel Representative to talk about the resources available to help manage your energy costs. We are available to assist customers with invoice questions as well as: \n·        EAP Application/Enrollment \n·        Deferred Payment Agreements \n·        Budget Plan \n·        Neighbor for Neighbor
URL:https://www.nationalfuel.com/event/rural-outreach-center-2/
LOCATION:Rural Outreach Center\, 730 Olean Rd\, East Aurora\, NY\, 14052\, United States
CATEGORIES:New York
ORGANIZER;CN="National Fuel Outreach":MAILTO:NFG_Outreach@natfuel.com
END:VEVENT
BEGIN:VEVENT
DTSTART;TZID=America/New_York:20250130T090000
DTEND;TZID=America/New_York:20250130T153000
DTSTAMP:20260425T130935
CREATED:20250114T182627Z
LAST-MODIFIED:20250114T182635Z
UID:10002170-1738227600-1738251000@www.nationalfuel.com
SUMMARY:Amherst Center for Seniors
DESCRIPTION:**HEAP Outreach will have Regular benefit applications available for the 2024/2025 HEAP Season. \nYou are also invited to speak with a National Fuel Representative to talk about the resources available to help manage your energy costs. We are available to assist customers with invoice questions as well as: \n·        EAP Application/Enrollment \n·        Deferred Payment Agreements \n·        Budget Plan \n·        Neighbor for Neighbor
URL:https://www.nationalfuel.com/event/amherst-center-for-seniors/
LOCATION:Amherst Center for Seniors\, 370 John James Audubon Pkwy\, Amherst\, NY\, 14228\, United States
CATEGORIES:New York
ORGANIZER;CN="National Fuel Outreach":MAILTO:NFG_Outreach@natfuel.com
END:VEVENT
BEGIN:VEVENT
DTSTART;TZID=America/New_York:20250201T100000
DTEND;TZID=America/New_York:20250201T130000
DTSTAMP:20260425T130935
CREATED:20250129T211936Z
LAST-MODIFIED:20250129T211947Z
UID:10002172-1738404000-1738414800@www.nationalfuel.com
SUMMARY:Highgate Heights Elementary
DESCRIPTION:You are invited to speak with a National Fuel Representative to talk about the resources available to help manage your energy costs. We are available to assist customers with invoice questions as well as: \n·        EAP Application/Enrollment \n·        Deferred Payment Agreements \n·        Budget Plan \n·        Neighbor for Neighbor
URL:https://www.nationalfuel.com/event/highgate-heights-elementary-5/
LOCATION:Highgate Heights Elementary School\, 600 Highgate Ave\, Buffalo\, NY\, 14215\, United States
CATEGORIES:New York
ORGANIZER;CN="National Fuel Outreach":MAILTO:NFG_Outreach@natfuel.com
END:VEVENT
END:VCALENDAR