BEGIN:VCALENDAR
VERSION:2.0
PRODID:-//National Fuel Gas Company - ECPv6.15.20//NONSGML v1.0//EN
CALSCALE:GREGORIAN
METHOD:PUBLISH
X-ORIGINAL-URL:https://www.nationalfuel.com
X-WR-CALDESC:Events for National Fuel Gas Company
REFRESH-INTERVAL;VALUE=DURATION:PT1H
X-Robots-Tag:noindex
X-PUBLISHED-TTL:PT1H
BEGIN:VTIMEZONE
TZID:America/New_York
BEGIN:DAYLIGHT
TZOFFSETFROM:-0500
TZOFFSETTO:-0400
TZNAME:EDT
DTSTART:20230312T070000
END:DAYLIGHT
BEGIN:STANDARD
TZOFFSETFROM:-0400
TZOFFSETTO:-0500
TZNAME:EST
DTSTART:20231105T060000
END:STANDARD
BEGIN:DAYLIGHT
TZOFFSETFROM:-0500
TZOFFSETTO:-0400
TZNAME:EDT
DTSTART:20240310T070000
END:DAYLIGHT
BEGIN:STANDARD
TZOFFSETFROM:-0400
TZOFFSETTO:-0500
TZNAME:EST
DTSTART:20241103T060000
END:STANDARD
BEGIN:DAYLIGHT
TZOFFSETFROM:-0500
TZOFFSETTO:-0400
TZNAME:EDT
DTSTART:20250309T070000
END:DAYLIGHT
BEGIN:STANDARD
TZOFFSETFROM:-0400
TZOFFSETTO:-0500
TZNAME:EST
DTSTART:20251102T060000
END:STANDARD
END:VTIMEZONE
BEGIN:VEVENT
DTSTART;TZID=America/New_York:20241118T100000
DTEND;TZID=America/New_York:20241118T160000
DTSTAMP:20260423T064753
CREATED:20241029T115942Z
LAST-MODIFIED:20241223T141142Z
UID:10002119-1731924000-1731945600@www.nationalfuel.com
SUMMARY:Erie County HEAP Office
DESCRIPTION:You are invited to speak with a National Fuel Representative to talk about the resources available to help manage your energy costs. We are available to assist customers with invoice questions as well as: \n·        EAP Application/Enrollment \n·        Deferred Payment Agreements \n·        Budget Plan \n·        Neighbor for Neighbor
URL:https://www.nationalfuel.com/event/erie-county-heap-office-7/2024-11-18/
LOCATION:Erie County HEAP Office\, 460 Main St\, Buffalo\, NY\, 14202\, United States
CATEGORIES:New York
ORGANIZER;CN="National Fuel Outreach":MAILTO:NFG_Outreach@natfuel.com
END:VEVENT
BEGIN:VEVENT
DTSTART;TZID=America/New_York:20241119T110000
DTEND;TZID=America/New_York:20241119T140000
DTSTAMP:20260423T064753
CREATED:20241118T221419Z
LAST-MODIFIED:20241118T221429Z
UID:10002118-1732014000-1732024800@www.nationalfuel.com
SUMMARY:Hamburg Senior Center
DESCRIPTION:**HEAP Outreach will have Regular benefit applications available for the 2024/2025 HEAP Season. \nYou are also invited to speak with a National Fuel Representative to talk about the resources available to help manage your energy costs. We are available to assist customers with invoice questions as well as: \n·        EAP Application/Enrollment \n·        Deferred Payment Agreements \n·        Budget Plan \n·        Neighbor for Neighbor
URL:https://www.nationalfuel.com/event/hamburg-senior-center/
LOCATION:Hamburg Senior Center\, 4540 Southwestern Blvd\, Hamburg\, NY\, 14075\, United States
CATEGORIES:New York
ORGANIZER;CN="National Fuel Outreach":MAILTO:NFG_Outreach@natfuel.com
END:VEVENT
BEGIN:VEVENT
DTSTART;TZID=America/New_York:20241120T100000
DTEND;TZID=America/New_York:20241120T160000
DTSTAMP:20260423T064753
CREATED:20241029T115942Z
LAST-MODIFIED:20241223T141142Z
UID:10002120-1732096800-1732118400@www.nationalfuel.com
SUMMARY:Erie County HEAP Office
DESCRIPTION:You are invited to speak with a National Fuel Representative to talk about the resources available to help manage your energy costs. We are available to assist customers with invoice questions as well as: \n·        EAP Application/Enrollment \n·        Deferred Payment Agreements \n·        Budget Plan \n·        Neighbor for Neighbor
URL:https://www.nationalfuel.com/event/erie-county-heap-office-7/2024-11-20/
LOCATION:Erie County HEAP Office\, 460 Main St\, Buffalo\, NY\, 14202\, United States
CATEGORIES:New York
ORGANIZER;CN="National Fuel Outreach":MAILTO:NFG_Outreach@natfuel.com
END:VEVENT
BEGIN:VEVENT
DTSTART;TZID=America/New_York:20241121T100000
DTEND;TZID=America/New_York:20241121T140000
DTSTAMP:20260423T064753
CREATED:20241118T221523Z
LAST-MODIFIED:20241118T221529Z
UID:10002123-1732183200-1732197600@www.nationalfuel.com
SUMMARY:Resource Council of WNY
DESCRIPTION:You are invited to speak with a National Fuel Representative to talk about the resources available to help manage your energy costs. We are available to assist customers with invoice questions as well as: \n·        EAP Application/Enrollment \n·        Deferred Payment Agreements \n·        Budget Plan \n·        Neighbor for Neighbor
URL:https://www.nationalfuel.com/event/resource-council-of-wny-15/
LOCATION:Resource Council of WNY\, 347 East Ferry Street\, Buffalo\, NY\, 14208\, United States
CATEGORIES:New York
ORGANIZER;CN="National Fuel Outreach":MAILTO:NFG_Outreach@natfuel.com
END:VEVENT
BEGIN:VEVENT
DTSTART;TZID=America/New_York:20241121T110000
DTEND;TZID=America/New_York:20241121T160000
DTSTAMP:20260423T064753
CREATED:20241118T221447Z
LAST-MODIFIED:20241118T221453Z
UID:10002122-1732186800-1732204800@www.nationalfuel.com
SUMMARY:Central Library Downtown
DESCRIPTION:**HEAP Outreach will have Regular benefit applications available for the 2024/2025 HEAP Season. \nYou are also invited to speak with a National Fuel Representative to talk about the resources available to help manage your energy costs. We are available to assist customers with invoice questions as well as: \n·        EAP Application/Enrollment \n·        Deferred Payment Agreements \n·        Budget Plan \n·        Neighbor for Neighbor
URL:https://www.nationalfuel.com/event/central-library-downtown/
LOCATION:Buffalo & Erie County Public Library\, 1 Lafayette Sq\, Buffalo\, NY\, 14203\, United States
CATEGORIES:New York
ORGANIZER;CN="National Fuel Outreach":MAILTO:NFG_Outreach@natfuel.com
END:VEVENT
BEGIN:VEVENT
DTSTART;TZID=America/New_York:20241122T100000
DTEND;TZID=America/New_York:20241122T160000
DTSTAMP:20260423T064753
CREATED:20241029T115942Z
LAST-MODIFIED:20241223T141142Z
UID:10002121-1732269600-1732291200@www.nationalfuel.com
SUMMARY:Erie County HEAP Office
DESCRIPTION:You are invited to speak with a National Fuel Representative to talk about the resources available to help manage your energy costs. We are available to assist customers with invoice questions as well as: \n·        EAP Application/Enrollment \n·        Deferred Payment Agreements \n·        Budget Plan \n·        Neighbor for Neighbor
URL:https://www.nationalfuel.com/event/erie-county-heap-office-7/2024-11-22/
LOCATION:Erie County HEAP Office\, 460 Main St\, Buffalo\, NY\, 14202\, United States
CATEGORIES:New York
ORGANIZER;CN="National Fuel Outreach":MAILTO:NFG_Outreach@natfuel.com
END:VEVENT
BEGIN:VEVENT
DTSTART;TZID=America/New_York:20241122T110000
DTEND;TZID=America/New_York:20241122T160000
DTSTAMP:20260423T064753
CREATED:20241118T221607Z
LAST-MODIFIED:20241118T221617Z
UID:10002124-1732273200-1732291200@www.nationalfuel.com
SUMMARY:Grand Island Memorial Library
DESCRIPTION:**HEAP Outreach will have Regular benefit applications available for the 2024/2025 HEAP Season. \nYou are also invited to speak with a National Fuel Representative to talk about the resources available to help manage your energy costs. We are available to assist customers with invoice questions as well as: \n·        EAP Application/Enrollment \n·        Deferred Payment Agreements \n·        Budget Plan \n·        Neighbor for Neighbor
URL:https://www.nationalfuel.com/event/grand-island-memorial-library/
LOCATION:Grand Island Memorial Library\, 1715 Bedell Rd.\, Grand Island\, NY\, 14072\, United States
CATEGORIES:New York
ORGANIZER;CN="National Fuel Outreach":MAILTO:NFG_Outreach@natfuel.com
END:VEVENT
BEGIN:VEVENT
DTSTART;TZID=America/New_York:20241123T100000
DTEND;TZID=America/New_York:20241123T140000
DTSTAMP:20260423T064753
CREATED:20241118T221545Z
LAST-MODIFIED:20241118T221550Z
UID:10002125-1732356000-1732370400@www.nationalfuel.com
SUMMARY:Rural Outreach Center
DESCRIPTION:**HEAP Outreach will have Regular benefit applications available for the 2024/2025 HEAP Season. \nYou are also invited to speak with a National Fuel Representative to talk about the resources available to help manage your energy costs. We are available to assist customers with invoice questions as well as: \n·        EAP Application/Enrollment \n·        Deferred Payment Agreements \n·        Budget Plan \n·        Neighbor for Neighbor
URL:https://www.nationalfuel.com/event/rural-outreach-center/
LOCATION:Rural Outreach Center\, 730 Olean Rd\, East Aurora\, NY\, 14052\, United States
CATEGORIES:New York
ORGANIZER;CN="National Fuel Outreach":MAILTO:NFG_Outreach@natfuel.com
END:VEVENT
BEGIN:VEVENT
DTSTART;TZID=America/New_York:20241123T110000
DTEND;TZID=America/New_York:20241123T130000
DTSTAMP:20260423T064753
CREATED:20241120T132316Z
LAST-MODIFIED:20241121T193426Z
UID:10002126-1732359600-1732366800@www.nationalfuel.com
SUMMARY:Western New York Thanksgiving Community Outreach
DESCRIPTION:FREE BAGS OF THANKSGIVING DINNER TRIMMINGS TO THE FIRST 200 PEOPLE.\nYou are also invited to speak with a National Fuel Representative to talk about the resources available to help manage your energy costs. We are available to assist customers with invoice questions as well as: \n·        EAP Application/Enrollment \n·        Deferred Payment Agreements \n·        Budget Plan \n·        Neighbor for Neighbor \nPlease click on the flyer below for more information.\nThanksgiving Giveaway
URL:https://www.nationalfuel.com/event/western-new-york-thanksgiving-community-outreach/
LOCATION:Thomas T Edwards Funeral Home\, 995 Genesee St\, Buffalo\, NY\, 14211\, United States
CATEGORIES:New York
ORGANIZER;CN="National Fuel Outreach":MAILTO:NFG_Outreach@natfuel.com
END:VEVENT
END:VCALENDAR