BEGIN:VCALENDAR
VERSION:2.0
PRODID:-//National Fuel Gas Company - ECPv6.15.20//NONSGML v1.0//EN
CALSCALE:GREGORIAN
METHOD:PUBLISH
X-WR-CALNAME:National Fuel Gas Company
X-ORIGINAL-URL:https://www.nationalfuel.com
X-WR-CALDESC:Events for National Fuel Gas Company
REFRESH-INTERVAL;VALUE=DURATION:PT1H
X-Robots-Tag:noindex
X-PUBLISHED-TTL:PT1H
BEGIN:VTIMEZONE
TZID:America/New_York
BEGIN:DAYLIGHT
TZOFFSETFROM:-0500
TZOFFSETTO:-0400
TZNAME:EDT
DTSTART:20230312T070000
END:DAYLIGHT
BEGIN:STANDARD
TZOFFSETFROM:-0400
TZOFFSETTO:-0500
TZNAME:EST
DTSTART:20231105T060000
END:STANDARD
BEGIN:DAYLIGHT
TZOFFSETFROM:-0500
TZOFFSETTO:-0400
TZNAME:EDT
DTSTART:20240310T070000
END:DAYLIGHT
BEGIN:STANDARD
TZOFFSETFROM:-0400
TZOFFSETTO:-0500
TZNAME:EST
DTSTART:20241103T060000
END:STANDARD
BEGIN:DAYLIGHT
TZOFFSETFROM:-0500
TZOFFSETTO:-0400
TZNAME:EDT
DTSTART:20250309T070000
END:DAYLIGHT
BEGIN:STANDARD
TZOFFSETFROM:-0400
TZOFFSETTO:-0500
TZNAME:EST
DTSTART:20251102T060000
END:STANDARD
END:VTIMEZONE
BEGIN:VEVENT
DTSTART;TZID=America/New_York:20240924T100000
DTEND;TZID=America/New_York:20240924T180000
DTSTAMP:20260419T132329
CREATED:20240830T153121Z
LAST-MODIFIED:20240830T153134Z
UID:10002071-1727172000-1727200800@www.nationalfuel.com
SUMMARY:Delavan Grider Community Center
DESCRIPTION:During the months of September and October\, HEAP Outreach will be available in the community to answer HEAP-related questions & accept clean & tune applications for eligible homeowners. \n**HEAP Outreach will not have Regular or Emergency benefit applications available for the 2024/2025 HEAP Season at these sites. The anticipated start of the 2024/2025 HEAP Season is November 2024. \n  \nYou are also invited to speak with a National Fuel Representative to talk about the resources available to help manage your energy costs. We are available to assist customers with invoice questions as well as: \n·        EAP Application/Enrollment \n·        Deferred Payment Agreements \n·        Budget Plan \n·        Neighbor for Neighbor
URL:https://www.nationalfuel.com/event/delavan-grider-community-center/
LOCATION:Delavan Grider Community Center\, 877 E Delavan Ave\, Buffalo\, NY\, 14215\, United States
CATEGORIES:New York
ORGANIZER;CN="National Fuel Outreach":MAILTO:NFG_Outreach@natfuel.com
END:VEVENT
BEGIN:VEVENT
DTSTART;TZID=America/New_York:20240924T110000
DTEND;TZID=America/New_York:20240924T130000
DTSTAMP:20260419T132329
CREATED:20240830T153041Z
LAST-MODIFIED:20240830T153053Z
UID:10002070-1727175600-1727182800@www.nationalfuel.com
SUMMARY:Bishop Gibbons Senior Apartments - Health Fair
DESCRIPTION:Health information & free screenings\, designed for the aging adult\, caregiver and those planning for the future. \nBishop Gibbons Senior Apartments – Health Fair \nYou are also invited to speak with a National Fuel Representative to talk about the resources available to help manage your energy costs. We are available to assist customers with invoice questions as well as: \n·        EAP Application/Enrollment \n·        Deferred Payment Agreements \n·        Budget Plan \n·        Neighbor for Neighbor
URL:https://www.nationalfuel.com/event/bishop-gibbons-senior-apartments-health-fair/
LOCATION:Bishop Gibbons Senior Apartments\, 1110 Payne Ave\, North Tonawanda\, NY\, 14120\, United States
CATEGORIES:New York
ORGANIZER;CN="National Fuel Outreach":MAILTO:NFG_Outreach@natfuel.com
END:VEVENT
BEGIN:VEVENT
DTSTART;TZID=America/New_York:20240924T163000
DTEND;TZID=America/New_York:20240924T183000
DTSTAMP:20260419T132329
CREATED:20240606T173411Z
LAST-MODIFIED:20240821T122041Z
UID:10001552-1727195400-1727202600@www.nationalfuel.com
SUMMARY:Mrs. Frances Nash's Garden Basket
DESCRIPTION:Mrs. Frances Nash’s Garden Basket Farmers Market! Stop by today for shopping\, music\, activities and more. \nYou are also invited to speak with a National Fuel Representative to talk about the resources available to help manage your energy costs. \nPlease click the link below for more information. \n2024 Farmers Market Schedule
URL:https://www.nationalfuel.com/event/mrs-frances-nashs-garden-basket/2024-09-24/
LOCATION:Garden Basket 2024\, 136 Broadway Ave\, Buffalo\, NY\, 14203\, United States
CATEGORIES:New York
ORGANIZER;CN="National Fuel Outreach":MAILTO:NFG_Outreach@natfuel.com
END:VEVENT
BEGIN:VEVENT
DTSTART;TZID=America/New_York:20240926T100000
DTEND;TZID=America/New_York:20240926T140000
DTSTAMP:20260419T132329
CREATED:20240830T153202Z
LAST-MODIFIED:20240830T153208Z
UID:10002072-1727344800-1727359200@www.nationalfuel.com
SUMMARY:Resource Council of WNY
DESCRIPTION:You are invited to speak with a National Fuel Representative to talk about the resources available to help manage your energy costs. We are available to assist customers with invoice questions as well as: \n·        EAP Application/Enrollment \n·        Deferred Payment Agreements \n·        Budget Plan \n·        Neighbor for Neighbor
URL:https://www.nationalfuel.com/event/resource-council-of-wny-11/
LOCATION:Resource Council of WNY\, 347 East Ferry Street\, Buffalo\, NY\, 14208\, United States
CATEGORIES:New York
ORGANIZER;CN="National Fuel Outreach":MAILTO:NFG_Outreach@natfuel.com
END:VEVENT
BEGIN:VEVENT
DTSTART;TZID=America/New_York:20240927T100000
DTEND;TZID=America/New_York:20240927T120000
DTSTAMP:20260419T132329
CREATED:20240816T171146Z
LAST-MODIFIED:20240815T205852Z
UID:10002058-1727431200-1727438400@www.nationalfuel.com
SUMMARY:Harborcreek Senior Fair
DESCRIPTION:Stop by National Fuel’s table to talk with a representative about the resources available to help manage your energy costs.
URL:https://www.nationalfuel.com/event/harborcreek-senior-fair/
LOCATION:Harborcreek Social Hall\, 7275 Buffalo Road\, Harborcreek\, PA\, 16421\, United States
CATEGORIES:Pennsylvania
END:VEVENT
END:VCALENDAR