BEGIN:VCALENDAR
VERSION:2.0
PRODID:-//National Fuel Gas Company - ECPv6.15.20//NONSGML v1.0//EN
CALSCALE:GREGORIAN
METHOD:PUBLISH
X-ORIGINAL-URL:https://www.nationalfuel.com
X-WR-CALDESC:Events for National Fuel Gas Company
REFRESH-INTERVAL;VALUE=DURATION:PT1H
X-Robots-Tag:noindex
X-PUBLISHED-TTL:PT1H
BEGIN:VTIMEZONE
TZID:America/New_York
BEGIN:DAYLIGHT
TZOFFSETFROM:-0500
TZOFFSETTO:-0400
TZNAME:EDT
DTSTART:20230312T070000
END:DAYLIGHT
BEGIN:STANDARD
TZOFFSETFROM:-0400
TZOFFSETTO:-0500
TZNAME:EST
DTSTART:20231105T060000
END:STANDARD
BEGIN:DAYLIGHT
TZOFFSETFROM:-0500
TZOFFSETTO:-0400
TZNAME:EDT
DTSTART:20240310T070000
END:DAYLIGHT
BEGIN:STANDARD
TZOFFSETFROM:-0400
TZOFFSETTO:-0500
TZNAME:EST
DTSTART:20241103T060000
END:STANDARD
BEGIN:DAYLIGHT
TZOFFSETFROM:-0500
TZOFFSETTO:-0400
TZNAME:EDT
DTSTART:20250309T070000
END:DAYLIGHT
BEGIN:STANDARD
TZOFFSETFROM:-0400
TZOFFSETTO:-0500
TZNAME:EST
DTSTART:20251102T060000
END:STANDARD
END:VTIMEZONE
BEGIN:VEVENT
DTSTART;TZID=America/New_York:20240917T163000
DTEND;TZID=America/New_York:20240917T183000
DTSTAMP:20260421T060525
CREATED:20240606T173411Z
LAST-MODIFIED:20240821T122041Z
UID:10001551-1726590600-1726597800@www.nationalfuel.com
SUMMARY:Mrs. Frances Nash's Garden Basket
DESCRIPTION:Mrs. Frances Nash’s Garden Basket Farmers Market! Stop by today for shopping\, music\, activities and more. \nYou are also invited to speak with a National Fuel Representative to talk about the resources available to help manage your energy costs. \nPlease click the link below for more information. \n2024 Farmers Market Schedule
URL:https://www.nationalfuel.com/event/mrs-frances-nashs-garden-basket/2024-09-17/
LOCATION:Garden Basket 2024\, 136 Broadway Ave\, Buffalo\, NY\, 14203\, United States
CATEGORIES:New York
ORGANIZER;CN="National Fuel Outreach":MAILTO:NFG_Outreach@natfuel.com
END:VEVENT
BEGIN:VEVENT
DTSTART;TZID=America/New_York:20240918T100000
DTEND;TZID=America/New_York:20240918T140000
DTSTAMP:20260421T060525
CREATED:20240823T135259Z
LAST-MODIFIED:20240823T135923Z
UID:10002064-1726653600-1726668000@www.nationalfuel.com
SUMMARY:Taste of Faith Food Pantry
DESCRIPTION:During the months of September and October\, HEAP Outreach will be available in the community to answer HEAP-related questions & accept clean & tune applications for eligible homeowners. \n**HEAP Outreach will not have Regular or Emergency benefit applications available for the 2024/2025 HEAP Season at these sites. The anticipated start of the 2024/2025 HEAP Season is November 2024. \nYou are also invited to speak with a National Fuel Representative to talk about the resources available to help manage your energy costs. We are available to assist customers with invoice questions as well as: \n·        EAP Application/Enrollment \n·        Deferred Payment Agreements \n·        Budget Plan \n·        Neighbor for Neighbor
URL:https://www.nationalfuel.com/event/taste-of-faith-food-pantry-2/
LOCATION:Taste of Faith Food Pantry\, 594 Winslow Ave\, Buffalo\, NY\, 14211\, United States
CATEGORIES:New York
END:VEVENT
BEGIN:VEVENT
DTSTART;TZID=America/New_York:20240918T163000
DTEND;TZID=America/New_York:20240918T183000
DTSTAMP:20260421T060525
CREATED:20240830T152955Z
LAST-MODIFIED:20240830T153005Z
UID:10002067-1726677000-1726684200@www.nationalfuel.com
SUMMARY:Say Yes! Harvest Gratitude at BPS #37
DESCRIPTION:During the months of September and October\, HEAP Outreach will be available in the community to answer HEAP-related questions & accept clean & tune applications for eligible homeowners. \n**HEAP Outreach will not have Regular or Emergency benefit applications available for the 2024/2025 HEAP Season at these sites. The anticipated start of the 2024/2025 HEAP Season is November 2024. \n  \nYou are also invited to speak with a National Fuel Representative to talk about the resources available to help manage your energy costs. We are available to assist customers with invoice questions as well as: \n·        EAP Application/Enrollment \n·        Deferred Payment Agreements \n·        Budget Plan \n·        Neighbor for Neighbor
URL:https://www.nationalfuel.com/event/say-yes-harvest-gratitude-at-bps-37/
LOCATION:PS 037 Marva J. Daniel Futures Preparatory School\, 295 Carlton St\, Buffalo\, NY\, 14204\, United States
CATEGORIES:New York
ORGANIZER;CN="National Fuel Outreach":MAILTO:NFG_Outreach@natfuel.com
END:VEVENT
BEGIN:VEVENT
DTSTART;TZID=America/New_York:20240919T090000
DTEND;TZID=America/New_York:20240919T160000
DTSTAMP:20260421T060525
CREATED:20240830T153021Z
LAST-MODIFIED:20240830T153026Z
UID:10002068-1726736400-1726761600@www.nationalfuel.com
SUMMARY:Orchard Park Community Center
DESCRIPTION:During the months of September and October\, HEAP Outreach will be available in the community to answer HEAP-related questions & accept clean & tune applications for eligible homeowners. \n**HEAP Outreach will not have Regular or Emergency benefit applications available for the 2024/2025 HEAP Season at these sites. The anticipated start of the 2024/2025 HEAP Season is November 2024. \n  \nYou are also invited to speak with a National Fuel Representative to talk about the resources available to help manage your energy costs. We are available to assist customers with invoice questions as well as: \n·        EAP Application/Enrollment \n·        Deferred Payment Agreements \n·        Budget Plan \n·        Neighbor for Neighbor
URL:https://www.nationalfuel.com/event/orchard-park-community-center/
LOCATION:Orchard Park Community Center\, 4600 California Rd\, Orchard Park\, NY\, 14127\, United States
CATEGORIES:New York
ORGANIZER;CN="National Fuel Outreach":MAILTO:NFG_Outreach@natfuel.com
END:VEVENT
BEGIN:VEVENT
DTSTART;TZID=America/New_York:20240919T103000
DTEND;TZID=America/New_York:20240919T130000
DTSTAMP:20260421T060525
CREATED:20240816T171126Z
LAST-MODIFIED:20240815T205954Z
UID:10002057-1726741800-1726750800@www.nationalfuel.com
SUMMARY:Senator Michelle Brooks’ Senior Expo
DESCRIPTION:Stop by National Fuel’s table to talk with a representative about the resources available to help manage your energy costs.
URL:https://www.nationalfuel.com/event/senator-michelle-brooks-senior-expo-2/
LOCATION:Vernon Central Hose Company\, 16589 McMath Ave\, Meadville\, PA\, 16335\, United States
CATEGORIES:Pennsylvania
END:VEVENT
BEGIN:VEVENT
DTSTART;TZID=America/New_York:20240919T140000
DTEND;TZID=America/New_York:20240919T170000
DTSTAMP:20260421T060525
CREATED:20240830T152931Z
LAST-MODIFIED:20240830T152937Z
UID:10002069-1726754400-1726765200@www.nationalfuel.com
SUMMARY:Assemblymember Monica Wallace's Smart Senior Event
DESCRIPTION:Please join Assemblymember Monica Wallace\, in partnership with the Office of the NYS Attorney General\, at her first Smart Seniors Seminar. The Attorney General’s Office has graciously offered to help host this informative event where they will cover a variety of topics on how to keep seniors informed today such as scam protection\, internet safety\, identity theft\, and more. \nAssemblymember Monica Wallace’s Smart Senior Event \nYou are also invited to speak with a National Fuel Representative to talk about the resources available to help manage your energy costs. We are available to assist customers with invoice questions as well as: \n·        EAP Application/Enrollment \n·        Deferred Payment Agreements \n·        Budget Plan \n·        Neighbor for Neighbor
URL:https://www.nationalfuel.com/event/assemblymember-monica-wallaces-smart-senior-event/
LOCATION:Cheektowaga Senior Center\, 3349 Broadway\, Cheektowaga\, NY\, 14227\, United States
CATEGORIES:New York
ORGANIZER;CN="National Fuel Outreach":MAILTO:NFG_Outreach@natfuel.com
END:VEVENT
BEGIN:VEVENT
DTSTART;TZID=America/New_York:20240920T100000
DTEND;TZID=America/New_York:20240920T120000
DTSTAMP:20260421T060525
CREATED:20240828T153748Z
LAST-MODIFIED:20240828T153753Z
UID:10002065-1726826400-1726833600@www.nationalfuel.com
SUMMARY:PA State Representative Jake Banta’s Senior Expo
DESCRIPTION:Stop by National Fuel’s table to talk with a representative about the resources available to help manage your energy costs.
URL:https://www.nationalfuel.com/event/pa-state-representative-jake-bantas-senior-expo/
LOCATION:Corry Community Center\, 15 South 1st Avenue\, Corry\, PA\, 16428\, United States
CATEGORIES:Pennsylvania
END:VEVENT
BEGIN:VEVENT
DTSTART;TZID=America/New_York:20240920T100000
DTEND;TZID=America/New_York:20240920T140000
DTSTAMP:20260421T060525
CREATED:20240920T145259Z
LAST-MODIFIED:20240920T145304Z
UID:10002073-1726826400-1726840800@www.nationalfuel.com
SUMMARY:Taste of Faith Food Pantry
DESCRIPTION:You are invited to speak with a National Fuel Representative to talk about the resources available to help manage your energy costs. We are available to assist customers with invoice questions as well as: \n·        EAP Application/Enrollment \n·        Deferred Payment Agreements \n·        Budget Plan \n·        Neighbor for Neighbor
URL:https://www.nationalfuel.com/event/taste-of-faith-food-pantry-4/
LOCATION:Taste of Faith Food Pantry\, 594 Winslow Ave\, Buffalo\, NY\, 14211\, United States
CATEGORIES:New York
ORGANIZER;CN="National Fuel Outreach":MAILTO:NFG_Outreach@natfuel.com
END:VEVENT
END:VCALENDAR