BEGIN:VCALENDAR
VERSION:2.0
PRODID:-//National Fuel Gas Company - ECPv6.15.20//NONSGML v1.0//EN
CALSCALE:GREGORIAN
METHOD:PUBLISH
X-WR-CALNAME:National Fuel Gas Company
X-ORIGINAL-URL:https://www.nationalfuel.com
X-WR-CALDESC:Events for National Fuel Gas Company
REFRESH-INTERVAL;VALUE=DURATION:PT1H
X-Robots-Tag:noindex
X-PUBLISHED-TTL:PT1H
BEGIN:VTIMEZONE
TZID:America/New_York
BEGIN:DAYLIGHT
TZOFFSETFROM:-0500
TZOFFSETTO:-0400
TZNAME:EDT
DTSTART:20230312T070000
END:DAYLIGHT
BEGIN:STANDARD
TZOFFSETFROM:-0400
TZOFFSETTO:-0500
TZNAME:EST
DTSTART:20231105T060000
END:STANDARD
BEGIN:DAYLIGHT
TZOFFSETFROM:-0500
TZOFFSETTO:-0400
TZNAME:EDT
DTSTART:20240310T070000
END:DAYLIGHT
BEGIN:STANDARD
TZOFFSETFROM:-0400
TZOFFSETTO:-0500
TZNAME:EST
DTSTART:20241103T060000
END:STANDARD
BEGIN:DAYLIGHT
TZOFFSETFROM:-0500
TZOFFSETTO:-0400
TZNAME:EDT
DTSTART:20250309T070000
END:DAYLIGHT
BEGIN:STANDARD
TZOFFSETFROM:-0400
TZOFFSETTO:-0500
TZNAME:EST
DTSTART:20251102T060000
END:STANDARD
END:VTIMEZONE
BEGIN:VEVENT
DTSTART;TZID=America/New_York:20240819T090000
DTEND;TZID=America/New_York:20240819T120000
DTSTAMP:20260419T102845
CREATED:20240807T131935Z
LAST-MODIFIED:20240807T132131Z
UID:10002048-1724058000-1724068800@www.nationalfuel.com
SUMMARY:Representative Ryan Bizzarro’s Senior Fair
DESCRIPTION:Stop by National Fuel’s table to talk with a representative about the resources available to help manage your energy costs.
URL:https://www.nationalfuel.com/event/representative-ryan-bizzarros-senior-fair/
LOCATION:Zem Zem Shrine Club\, 2525 W 38th St\, Erie\, PA\, 16506\, United States
CATEGORIES:Pennsylvania
END:VEVENT
BEGIN:VEVENT
DTSTART;TZID=America/New_York:20240820T110000
DTEND;TZID=America/New_York:20240820T130000
DTSTAMP:20260419T102845
CREATED:20240807T224527Z
LAST-MODIFIED:20240807T224533Z
UID:10002053-1724151600-1724158800@www.nationalfuel.com
SUMMARY:Lancaster Towers
DESCRIPTION:You are invited to speak with a National Fuel Representative to talk about the resources available to help manage your energy costs. We are available to assist customers with invoice questions as well as: \n·        EAP Application/Enrollment \n·        Deferred Payment Agreements \n·        Budget Plan \n·        Neighbor for Neighbor
URL:https://www.nationalfuel.com/event/lancaster-towers/
LOCATION:Lancaster Towers\, 1 Pleasant Ave W.\, Lancaster\, NY\, 14086\, United States
CATEGORIES:New York
ORGANIZER;CN="National Fuel Outreach":MAILTO:NFG_Outreach@natfuel.com
END:VEVENT
BEGIN:VEVENT
DTSTART;TZID=America/New_York:20240820T163000
DTEND;TZID=America/New_York:20240820T183000
DTSTAMP:20260419T102845
CREATED:20240606T173411Z
LAST-MODIFIED:20240821T122041Z
UID:10001547-1724171400-1724178600@www.nationalfuel.com
SUMMARY:Mrs. Frances Nash's Garden Basket
DESCRIPTION:Mrs. Frances Nash’s Garden Basket Farmers Market! Stop by today for shopping\, music\, activities and more. \nYou are also invited to speak with a National Fuel Representative to talk about the resources available to help manage your energy costs. \nPlease click the link below for more information. \n2024 Farmers Market Schedule
URL:https://www.nationalfuel.com/event/mrs-frances-nashs-garden-basket/2024-08-20/
LOCATION:Garden Basket 2024\, 136 Broadway Ave\, Buffalo\, NY\, 14203\, United States
CATEGORIES:New York
ORGANIZER;CN="National Fuel Outreach":MAILTO:NFG_Outreach@natfuel.com
END:VEVENT
BEGIN:VEVENT
DTSTART;TZID=America/New_York:20240822T100000
DTEND;TZID=America/New_York:20240822T140000
DTSTAMP:20260419T102845
CREATED:20240725T133502Z
LAST-MODIFIED:20240725T133507Z
UID:10002041-1724320800-1724335200@www.nationalfuel.com
SUMMARY:Resource Council of WNY
DESCRIPTION:You are invited to speak with a National Fuel Representative to talk about the resources available to help manage your energy costs. We are available to assist customers with invoice questions as well as: \n·        EAP Application/Enrollment \n·        Deferred Payment Agreements \n·        Budget Plan \n·        Neighbor for Neighbor
URL:https://www.nationalfuel.com/event/resource-council-of-wny-8/
LOCATION:Resource Council of WNY\, 347 East Ferry Street\, Buffalo\, NY\, 14208\, United States
CATEGORIES:New York
ORGANIZER;CN="National Fuel Outreach":MAILTO:NFG_Outreach@natfuel.com
END:VEVENT
END:VCALENDAR