BEGIN:VCALENDAR
VERSION:2.0
PRODID:-//National Fuel Gas Company - ECPv6.15.20//NONSGML v1.0//EN
CALSCALE:GREGORIAN
METHOD:PUBLISH
X-WR-CALNAME:National Fuel Gas Company
X-ORIGINAL-URL:https://www.nationalfuel.com
X-WR-CALDESC:Events for National Fuel Gas Company
REFRESH-INTERVAL;VALUE=DURATION:PT1H
X-Robots-Tag:noindex
X-PUBLISHED-TTL:PT1H
BEGIN:VTIMEZONE
TZID:America/New_York
BEGIN:DAYLIGHT
TZOFFSETFROM:-0500
TZOFFSETTO:-0400
TZNAME:EDT
DTSTART:20230312T070000
END:DAYLIGHT
BEGIN:STANDARD
TZOFFSETFROM:-0400
TZOFFSETTO:-0500
TZNAME:EST
DTSTART:20231105T060000
END:STANDARD
BEGIN:DAYLIGHT
TZOFFSETFROM:-0500
TZOFFSETTO:-0400
TZNAME:EDT
DTSTART:20240310T070000
END:DAYLIGHT
BEGIN:STANDARD
TZOFFSETFROM:-0400
TZOFFSETTO:-0500
TZNAME:EST
DTSTART:20241103T060000
END:STANDARD
BEGIN:DAYLIGHT
TZOFFSETFROM:-0500
TZOFFSETTO:-0400
TZNAME:EDT
DTSTART:20250309T070000
END:DAYLIGHT
BEGIN:STANDARD
TZOFFSETFROM:-0400
TZOFFSETTO:-0500
TZNAME:EST
DTSTART:20251102T060000
END:STANDARD
END:VTIMEZONE
BEGIN:VEVENT
DTSTART;TZID=America/New_York:20240813T163000
DTEND;TZID=America/New_York:20240813T183000
DTSTAMP:20260419T115226
CREATED:20240606T173411Z
LAST-MODIFIED:20240821T122041Z
UID:10001546-1723566600-1723573800@www.nationalfuel.com
SUMMARY:Mrs. Frances Nash's Garden Basket
DESCRIPTION:Mrs. Frances Nash’s Garden Basket Farmers Market! Stop by today for shopping\, music\, activities and more. \nYou are also invited to speak with a National Fuel Representative to talk about the resources available to help manage your energy costs. \nPlease click the link below for more information. \n2024 Farmers Market Schedule
URL:https://www.nationalfuel.com/event/mrs-frances-nashs-garden-basket/2024-08-13/
LOCATION:Garden Basket 2024\, 136 Broadway Ave\, Buffalo\, NY\, 14203\, United States
CATEGORIES:New York
ORGANIZER;CN="National Fuel Outreach":MAILTO:NFG_Outreach@natfuel.com
END:VEVENT
BEGIN:VEVENT
DTSTART;TZID=America/New_York:20240814T100000
DTEND;TZID=America/New_York:20240814T130000
DTSTAMP:20260419T115226
CREATED:20240807T132038Z
LAST-MODIFIED:20240807T132043Z
UID:10002046-1723629600-1723640400@www.nationalfuel.com
SUMMARY:Representative R. Lee James’ Senior Expo
DESCRIPTION:Stop by National Fuel’s table to talk with a representative about the resources available to help manage your energy costs.
URL:https://www.nationalfuel.com/event/representative-r-lee-james-senior-expo/
LOCATION:Rocky Grove Volunteer Fire Department\, 29 Shuffstall Street\, Franklin\, PA\, 16323\, United States
CATEGORIES:Pennsylvania
END:VEVENT
BEGIN:VEVENT
DTSTART;TZID=America/New_York:20240814T143000
DTEND;TZID=America/New_York:20240814T173000
DTSTAMP:20260419T115226
CREATED:20240808T191243Z
LAST-MODIFIED:20240808T191251Z
UID:10002049-1723645800-1723656600@www.nationalfuel.com
SUMMARY:Back to School Bash
DESCRIPTION:Stop by National Fuel’s table to talk with a representative about the resources available to help manage your energy costs.
URL:https://www.nationalfuel.com/event/back-to-school-bash/
LOCATION:St. Michaels Center\, 2230 Highland Road\, Hermitage\, PA\, 16148\, United States
CATEGORIES:Pennsylvania
END:VEVENT
BEGIN:VEVENT
DTSTART;TZID=America/New_York:20240814T163000
DTEND;TZID=America/New_York:20240814T180000
DTSTAMP:20260419T115226
CREATED:20240807T224501Z
LAST-MODIFIED:20240807T224508Z
UID:10002052-1723653000-1723658400@www.nationalfuel.com
SUMMARY:Westminster Community Charter School
DESCRIPTION:Free Health and Wellness event to the community happening at Westminster Community Charter School.\nYou are also invited to speak with a National Fuel Representative to talk about the resources available to help manage your energy costs. We are available to assist customers with invoice questions as well as: \n·        EAP Application/Enrollment \n·        Deferred Payment Agreements \n·        Budget Plan \n·        Neighbor for Neighbor
URL:https://www.nationalfuel.com/event/westminster-community-charter-school/
LOCATION:Westminster Community Charter School\, 24 Westminster Ave\, Buffalo\, NY\, 14215\, United States
CATEGORIES:New York
ORGANIZER;CN="National Fuel Outreach":MAILTO:NFG_Outreach@natfuel.com
END:VEVENT
BEGIN:VEVENT
DTSTART;TZID=America/New_York:20240816T120000
DTEND;TZID=America/New_York:20240816T160000
DTSTAMP:20260419T115226
CREATED:20240807T135939Z
LAST-MODIFIED:20240807T135942Z
UID:10002047-1723809600-1723824000@www.nationalfuel.com
SUMMARY:U.S. Representative Mike Kelly’s Veteran Resource Fair
DESCRIPTION:Stop by National Fuel’s table to talk with a representative about the resources available to help manage your energy costs.  All Veterans\, Active Duty service members and Family member are welcome.
URL:https://www.nationalfuel.com/event/u-s-representative-mike-kellys-veteran-resource-fair/
LOCATION:Meadville Downtown Mall\, 900 Water St\, Meadville\, PA\, 16335\, United States
CATEGORIES:Pennsylvania
END:VEVENT
BEGIN:VEVENT
DTSTART;TZID=America/New_York:20240817T110000
DTEND;TZID=America/New_York:20240817T150000
DTSTAMP:20260419T115226
CREATED:20240725T131813Z
LAST-MODIFIED:20240725T131821Z
UID:10002039-1723892400-1723906800@www.nationalfuel.com
SUMMARY:Taking it to the Streets
DESCRIPTION:Taking It to the Streets brings the fun and excitement to the people.  Each year’s event is jam packed with live performance artists\, food and merchandise vendors\, resource information and linkage\, community heroes\, kids-centered activities\, and more. \nLocation Martin Luther King Jr. Park\, Buffalo NY \nFillmore Best Street side. \nYou are also invited to speak with a National Fuel Representative to talk about the resources available to help manage your energy costs. We are available to assist customers with invoice questions as well as: \n·        EAP Application/Enrollment \n·        Deferred Payment Agreements \n·        Budget Plan \n·        Neighbor for Neighbor \nPlease click on the flyer below for more information.\nTaking it to the Streets
URL:https://www.nationalfuel.com/event/taking-it-to-the-streets/
LOCATION:Dr. Martin Luther King\, Jr. Park\, 60 N Parade Ave\, Buffalo\, NY\, 14211\, United States
CATEGORIES:New York
ORGANIZER;CN="National Fuel Outreach":MAILTO:NFG_Outreach@natfuel.com
END:VEVENT
BEGIN:VEVENT
DTSTART;TZID=America/New_York:20240818T120000
DTEND;TZID=America/New_York:20240818T160000
DTSTAMP:20260419T115226
CREATED:20240725T131835Z
LAST-MODIFIED:20240725T131840Z
UID:10002040-1723982400-1723996800@www.nationalfuel.com
SUMMARY:Taking it to the Streets
DESCRIPTION:Taking It to the Streets brings the fun and excitement to the people.  Each year’s event is jam packed with live performance artists\, food and merchandise vendors\, resource information and linkage\, community heroes\, kids-centered activities\, and more. \nLocation Martin Luther King Jr. Park\, Buffalo NY \nFillmore Best Street side. \nYou are also invited to speak with a National Fuel Representative to talk about the resources available to help manage your energy costs. We are available to assist customers with invoice questions as well as: \n·        EAP Application/Enrollment \n·        Deferred Payment Agreements \n·        Budget Plan \n·        Neighbor for Neighbor \nPlease click on the flyer below for more information.\nTaking it to the Streets
URL:https://www.nationalfuel.com/event/taking-it-to-the-streets-2/
LOCATION:Dr. Martin Luther King\, Jr. Park\, 60 N Parade Ave\, Buffalo\, NY\, 14211\, United States
CATEGORIES:New York
ORGANIZER;CN="National Fuel Outreach":MAILTO:NFG_Outreach@natfuel.com
END:VEVENT
END:VCALENDAR