BEGIN:VCALENDAR
VERSION:2.0
PRODID:-//National Fuel Gas Company - ECPv6.15.20//NONSGML v1.0//EN
CALSCALE:GREGORIAN
METHOD:PUBLISH
X-WR-CALNAME:National Fuel Gas Company
X-ORIGINAL-URL:https://www.nationalfuel.com
X-WR-CALDESC:Events for National Fuel Gas Company
REFRESH-INTERVAL;VALUE=DURATION:PT1H
X-Robots-Tag:noindex
X-PUBLISHED-TTL:PT1H
BEGIN:VTIMEZONE
TZID:America/New_York
BEGIN:DAYLIGHT
TZOFFSETFROM:-0500
TZOFFSETTO:-0400
TZNAME:EDT
DTSTART:20250309T070000
END:DAYLIGHT
BEGIN:STANDARD
TZOFFSETFROM:-0400
TZOFFSETTO:-0500
TZNAME:EST
DTSTART:20251102T060000
END:STANDARD
BEGIN:DAYLIGHT
TZOFFSETFROM:-0500
TZOFFSETTO:-0400
TZNAME:EDT
DTSTART:20260308T070000
END:DAYLIGHT
BEGIN:STANDARD
TZOFFSETFROM:-0400
TZOFFSETTO:-0500
TZNAME:EST
DTSTART:20261101T060000
END:STANDARD
BEGIN:DAYLIGHT
TZOFFSETFROM:-0500
TZOFFSETTO:-0400
TZNAME:EDT
DTSTART:20270314T070000
END:DAYLIGHT
BEGIN:STANDARD
TZOFFSETFROM:-0400
TZOFFSETTO:-0500
TZNAME:EST
DTSTART:20271107T060000
END:STANDARD
END:VTIMEZONE
BEGIN:VEVENT
DTSTART;TZID=America/New_York:20260303T120000
DTEND;TZID=America/New_York:20260303T160000
DTSTAMP:20260425T071244
CREATED:20260217T124718Z
LAST-MODIFIED:20260217T124724Z
UID:10002627-1772539200-1772553600@www.nationalfuel.com
SUMMARY:Elma Public Library
DESCRIPTION:Representatives from the Erie County HEAP office will be onsite to provide information regarding the HEAP season. \nYou are also invited to speak with a National Fuel Representative to talk about the resources available to help manage your energy costs. We are available to assist customers with invoice questions as well as: \n·        EAP Application/Enrollment \n·        Deferred Payment Agreements \n·        Budget Plan \n·        Neighbor for Neighbor
URL:https://www.nationalfuel.com/event/elma-public-library-2/
LOCATION:Elma Public Library\, 1860 Bowen Rd\, Elma\, NY\, 14059\, United States
CATEGORIES:New York
ORGANIZER;CN="National Fuel Outreach":MAILTO:NFG_Outreach@natfuel.com
END:VEVENT
BEGIN:VEVENT
DTSTART;TZID=America/New_York:20260304T090000
DTEND;TZID=America/New_York:20260304T140000
DTSTAMP:20260425T071244
CREATED:20260224T191905Z
LAST-MODIFIED:20260224T191905Z
UID:10002642-1772614800-1772632800@www.nationalfuel.com
SUMMARY:UPMC Health Plan Neighborhood Center - Erie
DESCRIPTION:Stop by to talk with a National Fuel representative about the resources available to help manage your energy costs.
URL:https://www.nationalfuel.com/event/upmc-health-plan-neighborhood-center-erie-11/
LOCATION:UPMC Health Plan Neighborhood Center – Erie\, 803 East Ave\, Erie\, PA\, 16503\, United States
CATEGORIES:Pennsylvania
END:VEVENT
BEGIN:VEVENT
DTSTART;TZID=America/New_York:20260305T090000
DTEND;TZID=America/New_York:20260305T153000
DTSTAMP:20260425T071244
CREATED:20260217T125255Z
LAST-MODIFIED:20260217T125305Z
UID:10002628-1772701200-1772724600@www.nationalfuel.com
SUMMARY:Grand Island Golden Age Center
DESCRIPTION:Representatives from the Erie County HEAP office will be onsite to provide information regarding the HEAP season. \nYou are also invited to speak with a National Fuel Representative to talk about the resources available to help manage your energy costs. We are available to assist customers with invoice questions as well as: \n·        EAP Application/Enrollment \n·        Deferred Payment Agreements \n·        Budget Plan \n·        Neighbor for Neighbor
URL:https://www.nationalfuel.com/event/grand-island-golden-age-center/
LOCATION:Grand Island Golden Age Center\, 3278 Whitehaven Rd.\, Grand Island\, NY\, 14072\, United States
CATEGORIES:New York
ORGANIZER;CN="National Fuel Outreach":MAILTO:NFG_Outreach@natfuel.com
END:VEVENT
BEGIN:VEVENT
DTSTART;TZID=America/New_York:20260305T100000
DTEND;TZID=America/New_York:20260305T120000
DTSTAMP:20260425T071244
CREATED:20260224T191822Z
LAST-MODIFIED:20260224T191822Z
UID:10002643-1772704800-1772712000@www.nationalfuel.com
SUMMARY:GECAC Erie West Senior Center
DESCRIPTION:A National Fuel Representative will be presenting on resources available to help manage your energy costs.
URL:https://www.nationalfuel.com/event/gecac-erie-west-senior-center/
LOCATION:Gecac Erie West Senior Center\, 1210 West 8th Street\, Erie\, PA\, 16502\, United States
CATEGORIES:Pennsylvania
END:VEVENT
BEGIN:VEVENT
DTSTART;TZID=America/New_York:20260306T110000
DTEND;TZID=America/New_York:20260306T153000
DTSTAMP:20260425T071244
CREATED:20260217T125324Z
LAST-MODIFIED:20260217T125329Z
UID:10002629-1772794800-1772811000@www.nationalfuel.com
SUMMARY:Erie County HEAP Office
DESCRIPTION:You are invited to speak with a National Fuel Representative to talk about the resources available to help manage your energy costs. We are available to assist customers with invoice questions as well as: \n·        EAP Application/Enrollment \n·        Deferred Payment Agreements \n·        Budget Plan \n·        Neighbor for Neighbor
URL:https://www.nationalfuel.com/event/erie-county-heap-office-15/
LOCATION:Erie County HEAP Office\, 460 Main St\, Buffalo\, NY\, 14202\, United States
CATEGORIES:New York
ORGANIZER;CN="National Fuel Outreach":MAILTO:NFG_Outreach@natfuel.com
END:VEVENT
BEGIN:VEVENT
DTSTART;TZID=America/New_York:20260307T100000
DTEND;TZID=America/New_York:20260307T140000
DTSTAMP:20260425T071244
CREATED:20260217T125408Z
LAST-MODIFIED:20260217T125419Z
UID:10002632-1772877600-1772892000@www.nationalfuel.com
SUMMARY:HEAP & NY Connects at Johnnie B. Wiley
DESCRIPTION:Representatives from the Erie County HEAP office will be onsite to provide information regarding the HEAP season. \nYou are also invited to speak with a National Fuel Representative to talk about the resources available to help manage your energy costs. We are available to assist customers with invoice questions as well as: \n·        EAP Application/Enrollment \n·        Deferred Payment Agreements \n·        Budget Plan \n·        Neighbor for Neighbor
URL:https://www.nationalfuel.com/event/heap-ny-connects-at-johnnie-b-wiley/
LOCATION:Johnnie B Wiley Sports Pavilion\, 1140 Jefferson Ave\, Buffalo\, NY\, 14208\, United States
CATEGORIES:New York
ORGANIZER;CN="National Fuel Outreach":MAILTO:NFG_Outreach@natfuel.com
END:VEVENT
BEGIN:VEVENT
DTSTART;TZID=America/New_York:20260307T110000
DTEND;TZID=America/New_York:20260307T140000
DTSTAMP:20260425T071244
CREATED:20260217T125715Z
LAST-MODIFIED:20260217T125721Z
UID:10002636-1772881200-1772892000@www.nationalfuel.com
SUMMARY:Vet Fest 2026
DESCRIPTION:Vet Fest 2026 is bringing together organizations and service providers who are committed to helping veterans access resources\, support services\, and community connections. \nYou are also invited to speak with a National Fuel Representative to talk about the resources available to help manage your energy costs. We are available to assist customers with invoice questions as well as: \n·        EAP Application/Enrollment \n·        Deferred Payment Agreements \n·        Budget Plan \n·        Neighbor for Neighbor \n  \nVet Fest 2026 Flyer
URL:https://www.nationalfuel.com/event/vet-fest-2026/
LOCATION:American Legion Post 1042\, 533 Amherst St.\, Buffalo\, 14207\, United States
CATEGORIES:New York
ORGANIZER;CN="National Fuel Outreach":MAILTO:NFG_Outreach@natfuel.com
END:VEVENT
BEGIN:VEVENT
DTSTART;TZID=America/New_York:20260312T100000
DTEND;TZID=America/New_York:20260312T140000
DTSTAMP:20260425T071244
CREATED:20260217T125442Z
LAST-MODIFIED:20260217T125511Z
UID:10002633-1773309600-1773324000@www.nationalfuel.com
SUMMARY:Resource Counsil of WNY
DESCRIPTION:You are invited to speak with a National Fuel Representative to talk about the resources available to help manage your energy costs. We are available to assist customers with invoice questions as well as: \n·        EAP Application/Enrollment \n·        Deferred Payment Agreements \n·        Budget Plan \n·        Neighbor for Neighbor
URL:https://www.nationalfuel.com/event/resource-counsil-of-wny/
LOCATION:Resource Council of WNY\, 347 East Ferry Street\, Buffalo\, NY\, 14208\, United States
CATEGORIES:New York
ORGANIZER;CN="National Fuel Outreach":MAILTO:NFG_Outreach@natfuel.com
END:VEVENT
BEGIN:VEVENT
DTSTART;TZID=America/New_York:20260313T080000
DTEND;TZID=America/New_York:20260313T160000
DTSTAMP:20260425T071244
CREATED:20260217T125738Z
LAST-MODIFIED:20260217T125747Z
UID:10002637-1773388800-1773417600@www.nationalfuel.com
SUMMARY:Wellness Symposium
DESCRIPTION:Join us at the Brocton High School Gymnasium for a Health & Wellness Symposium.  This event features free lectures on a variety of topics.  Mobile medical units will also be on site offering basic medical checks and resources for hearing\, dental and vision care. Elder and Veteran resources also available.  Connect with over 70 local service providers including National Fuel representatives who can talk about the resources available to help manage your energy costs. We are available to assist customers with invoice questions as well as: \n\nEAP Application/Enrollment\nDeferred Payment Agreements\nBudget Plan\nNeighbor for Neighbor\n\nWellness Symposium Flyer
URL:https://www.nationalfuel.com/event/wellness-symposium/
LOCATION:Brocton Central School\, 138 W. Main St.\, Brocton\, NY\, 14716\, United States
CATEGORIES:New York
ORGANIZER;CN="National Fuel Outreach":MAILTO:NFG_Outreach@natfuel.com
END:VEVENT
BEGIN:VEVENT
DTSTART;TZID=America/New_York:20260313T100000
DTEND;TZID=America/New_York:20260313T120000
DTSTAMP:20260425T071244
CREATED:20260217T125812Z
LAST-MODIFIED:20260217T125820Z
UID:10002638-1773396000-1773403200@www.nationalfuel.com
SUMMARY:Resource Fair
DESCRIPTION:You are invited to speak with a National Fuel Representative to talk about the resources available to help manage your energy costs. We are available to assist customers with invoice questions as well as: \n·        EAP Application/Enrollment \n·        Deferred Payment Agreements \n·        Budget Plan \n·        Neighbor for Neighbor
URL:https://www.nationalfuel.com/event/resource-fair/
LOCATION:NYS Department of Labor\, 290 Main St.\, Buffalo\, NY\, 14202\, United States
CATEGORIES:New York
ORGANIZER;CN="National Fuel Outreach":MAILTO:NFG_Outreach@natfuel.com
END:VEVENT
BEGIN:VEVENT
DTSTART;TZID=America/New_York:20260316T090000
DTEND;TZID=America/New_York:20260316T140000
DTSTAMP:20260425T071244
CREATED:20260224T193520Z
LAST-MODIFIED:20260224T193520Z
UID:10002647-1773651600-1773669600@www.nationalfuel.com
SUMMARY:UPMC Health Plan Neighborhood Center - Erie
DESCRIPTION:Stop by to talk with a National Fuel representative about the resources available to help manage your energy costs.
URL:https://www.nationalfuel.com/event/upmc-health-plan-neighborhood-center-erie-12/
LOCATION:UPMC Health Plan Neighborhood Center – Erie\, 803 East Ave\, Erie\, PA\, 16503\, United States
CATEGORIES:Pennsylvania
END:VEVENT
BEGIN:VEVENT
DTSTART;TZID=America/New_York:20260317T100000
DTEND;TZID=America/New_York:20260317T140000
DTSTAMP:20260425T071244
CREATED:20260317T204729Z
LAST-MODIFIED:20260317T204734Z
UID:10002639-1773741600-1773756000@www.nationalfuel.com
SUMMARY:ROC
DESCRIPTION:Representatives from the Erie County HEAP office will be onsite to provide information regarding the HEAP season. \nYou are also invited to speak with a National Fuel Representative to talk about the resources available to help manage your energy costs. We are available to assist customers with invoice questions as well as: \n·        EAP Application/Enrollment \n·        Deferred Payment Agreements \n·        Budget Plan \n·        Neighbor for Neighbor
URL:https://www.nationalfuel.com/event/roc/
LOCATION:Rural Outreach Center\, 730 Olean Rd\, East Aurora\, NY\, 14052\, United States
ORGANIZER;CN="National Fuel Outreach":MAILTO:NFG_Outreach@natfuel.com
END:VEVENT
BEGIN:VEVENT
DTSTART;TZID=America/New_York:20260317T100000
DTEND;TZID=America/New_York:20260317T140000
DTSTAMP:20260425T071244
CREATED:20260317T204754Z
LAST-MODIFIED:20260317T204759Z
UID:10002640-1773741600-1773756000@www.nationalfuel.com
SUMMARY:Hubert Library
DESCRIPTION:Representatives from the Erie County HEAP office will be onsite to provide information regarding the HEAP season. \nYou are also invited to speak with a National Fuel Representative to talk about the resources available to help manage your energy costs. We are available to assist customers with invoice questions as well as: \n·        EAP Application/Enrollment \n·        Deferred Payment Agreements \n·        Budget Plan \n·        Neighbor for Neighbor
URL:https://www.nationalfuel.com/event/hubert-library/
LOCATION:Hubert Library\, 18 Chapel St.\, Springville\, NY\, 14141\, United States
ORGANIZER;CN="National Fuel Outreach":MAILTO:NFG_Outreach@natfuel.com
END:VEVENT
BEGIN:VEVENT
DTSTART;TZID=America/New_York:20260318T100000
DTEND;TZID=America/New_York:20260318T150000
DTSTAMP:20260425T071244
CREATED:20260217T125646Z
LAST-MODIFIED:20260217T125651Z
UID:10002635-1773828000-1773846000@www.nationalfuel.com
SUMMARY:Boston Town Hall
DESCRIPTION:Representatives from the Erie County HEAP office will be onsite to provide information regarding the HEAP season. \nYou are also invited to speak with a National Fuel Representative to talk about the resources available to help manage your energy costs. We are available to assist customers with invoice questions as well as: \n·        EAP Application/Enrollment \n·        Deferred Payment Agreements \n·        Budget Plan \n·        Neighbor for Neighbor
URL:https://www.nationalfuel.com/event/boston-town-hall-3/
LOCATION:Boston Town Hall\, 8500 Boston State Rd\, Boston\, NY\, 14025\, United States
CATEGORIES:New York
ORGANIZER;CN="National Fuel Outreach":MAILTO:NFG_Outreach@natfuel.com
END:VEVENT
BEGIN:VEVENT
DTSTART;TZID=America/New_York:20260319T090000
DTEND;TZID=America/New_York:20260319T140000
DTSTAMP:20260425T071245
CREATED:20260220T191000Z
LAST-MODIFIED:20260220T191008Z
UID:10002644-1773910800-1773928800@www.nationalfuel.com
SUMMARY:UPMC Health Plan Neighborhood Center - Erie
DESCRIPTION:Stop by to talk with a National Fuel representative about the resources available to help manage your energy costs.
URL:https://www.nationalfuel.com/event/upmc-health-plan-neighborhood-center-erie-9/
LOCATION:UPMC Health Plan Neighborhood Center – Erie\, 803 East Ave\, Erie\, PA\, 16503\, United States
CATEGORIES:Pennsylvania
END:VEVENT
BEGIN:VEVENT
DTSTART;TZID=America/New_York:20260320T110000
DTEND;TZID=America/New_York:20260320T153000
DTSTAMP:20260425T071245
CREATED:20260217T125344Z
LAST-MODIFIED:20260217T125349Z
UID:10002630-1774004400-1774020600@www.nationalfuel.com
SUMMARY:Erie County HEAP Office
DESCRIPTION:You are invited to speak with a National Fuel Representative to talk about the resources available to help manage your energy costs. We are available to assist customers with invoice questions as well as: \n·        EAP Application/Enrollment \n·        Deferred Payment Agreements \n·        Budget Plan \n·        Neighbor for Neighbor
URL:https://www.nationalfuel.com/event/erie-county-heap-office-16/
LOCATION:Erie County HEAP Office\, 460 Main St\, Buffalo\, NY\, 14202\, United States
CATEGORIES:New York
ORGANIZER;CN="National Fuel Outreach":MAILTO:NFG_Outreach@natfuel.com
END:VEVENT
BEGIN:VEVENT
DTSTART;TZID=America/New_York:20260321T110000
DTEND;TZID=America/New_York:20260321T140000
DTSTAMP:20260425T071245
CREATED:20260317T204842Z
LAST-MODIFIED:20260317T204847Z
UID:10002648-1774090800-1774101600@www.nationalfuel.com
SUMMARY:AppleTree Walk In Center - National Fuel & HEAP Special Event
DESCRIPTION:National Fuel is teaming up with the Erie County HEAP Office for a Special Event at the AppleTree Customer Walk-in Center! \nNational Fuel representatives will be available to discuss account related questions or to assist with making a payment.  The Erie County HEAP outreach team will be onsite to assist with application processing and answer your HEAP related questions.  Basic HEAP grants of $496.00 are available and (1) $400.00 emergency benefit is available for those who qualify. \nStop in and see us to get the support you need!
URL:https://www.nationalfuel.com/event/appletree-walk-in-center-national-fuel-heap-special-event/
LOCATION:AppleTree Walk in Center\, 2875 Union Rd. Ste. 44\, Cheektowaga\, NY\, 14227\, United States
ORGANIZER;CN="National Fuel Outreach":MAILTO:NFG_Outreach@natfuel.com
END:VEVENT
BEGIN:VEVENT
DTSTART;TZID=America/New_York:20260323T090000
DTEND;TZID=America/New_York:20260323T140000
DTSTAMP:20260425T071245
CREATED:20260220T190822Z
LAST-MODIFIED:20260220T190829Z
UID:10002645-1774256400-1774274400@www.nationalfuel.com
SUMMARY:UPMC Health Plan Neighborhood Center - Erie
DESCRIPTION:Stop by to talk with a National Fuel representative about the resources available to help manage your energy costs.
URL:https://www.nationalfuel.com/event/upmc-health-plan-neighborhood-center-erie-10/
LOCATION:NY
CATEGORIES:Pennsylvania
END:VEVENT
BEGIN:VEVENT
DTSTART;TZID=America/New_York:20260323T100000
DTEND;TZID=America/New_York:20260323T150000
DTSTAMP:20260425T071245
CREATED:20260317T204819Z
LAST-MODIFIED:20260317T204825Z
UID:10002641-1774260000-1774278000@www.nationalfuel.com
SUMMARY:Eden Town Hall
DESCRIPTION:Representatives from the Erie County HEAP office will be onsite to provide information regarding the HEAP season. \nYou are also invited to speak with a National Fuel Representative to talk about the resources available to help manage your energy costs. We are available to assist customers with invoice questions as well as: \n·        EAP Application/Enrollment \n·        Deferred Payment Agreements \n·        Budget Plan \n·        Neighbor for Neighbor
URL:https://www.nationalfuel.com/event/eden-town-hall/
LOCATION:Eden Town Hall\, 2795 E. Church St.\, Eden\, NY\, 14057\, United States
ORGANIZER;CN="National Fuel Outreach":MAILTO:NFG_Outreach@natfuel.com
END:VEVENT
BEGIN:VEVENT
DTSTART;TZID=America/New_York:20260324T100000
DTEND;TZID=America/New_York:20260324T140000
DTSTAMP:20260425T071245
CREATED:20260220T190703Z
LAST-MODIFIED:20260220T190902Z
UID:10002646-1774346400-1774360800@www.nationalfuel.com
SUMMARY:FREE Renter’s Rights and Resources Event
DESCRIPTION:Stop by to talk with a National Fuel representative about the resources available to help manage your energy costs.
URL:https://www.nationalfuel.com/event/free-renters-rights-and-resources-event/
LOCATION:Sharon Salvation Army\, 660 Fisher Hill Street\, Sharon\, PA\, 16146\, United States
CATEGORIES:Pennsylvania
END:VEVENT
BEGIN:VEVENT
DTSTART;TZID=America/New_York:20260326T100000
DTEND;TZID=America/New_York:20260326T140000
DTSTAMP:20260425T071245
CREATED:20260217T125620Z
LAST-MODIFIED:20260217T125628Z
UID:10002634-1774519200-1774533600@www.nationalfuel.com
SUMMARY:Resource Counsil of WNY
DESCRIPTION:You are invited to speak with a National Fuel Representative to talk about the resources available to help manage your energy costs. We are available to assist customers with invoice questions as well as: \n·        EAP Application/Enrollment \n·        Deferred Payment Agreements \n·        Budget Plan \n·        Neighbor for Neighbor
URL:https://www.nationalfuel.com/event/resource-counsil-of-wny-2/
LOCATION:Resource Council of WNY\, 347 East Ferry Street\, Buffalo\, NY\, 14208\, United States
CATEGORIES:New York
ORGANIZER;CN="National Fuel Outreach":MAILTO:NFG_Outreach@natfuel.com
END:VEVENT
BEGIN:VEVENT
DTSTART;TZID=America/New_York:20260327T110000
DTEND;TZID=America/New_York:20260327T153000
DTSTAMP:20260425T071245
CREATED:20260217T124948Z
LAST-MODIFIED:20260217T124955Z
UID:10002631-1774609200-1774625400@www.nationalfuel.com
SUMMARY:Erie County HEAP Office
DESCRIPTION:You are invited to speak with a National Fuel Representative to talk about the resources available to help manage your energy costs. We are available to assist customers with invoice questions as well as: \n·        EAP Application/Enrollment \n·        Deferred Payment Agreements \n·        Budget Plan \n·        Neighbor for Neighbor
URL:https://www.nationalfuel.com/event/erie-county-heap-office-17/
LOCATION:Erie County HEAP Office\, 460 Main St\, Buffalo\, NY\, 14202\, United States
CATEGORIES:New York
ORGANIZER;CN="National Fuel Outreach":MAILTO:NFG_Outreach@natfuel.com
END:VEVENT
END:VCALENDAR