BEGIN:VCALENDAR
VERSION:2.0
PRODID:-//National Fuel Gas Company - ECPv6.15.20//NONSGML v1.0//EN
CALSCALE:GREGORIAN
METHOD:PUBLISH
X-ORIGINAL-URL:https://www.nationalfuel.com
X-WR-CALDESC:Events for National Fuel Gas Company
REFRESH-INTERVAL;VALUE=DURATION:PT1H
X-Robots-Tag:noindex
X-PUBLISHED-TTL:PT1H
BEGIN:VTIMEZONE
TZID:America/New_York
BEGIN:DAYLIGHT
TZOFFSETFROM:-0500
TZOFFSETTO:-0400
TZNAME:EDT
DTSTART:20230312T070000
END:DAYLIGHT
BEGIN:STANDARD
TZOFFSETFROM:-0400
TZOFFSETTO:-0500
TZNAME:EST
DTSTART:20231105T060000
END:STANDARD
BEGIN:DAYLIGHT
TZOFFSETFROM:-0500
TZOFFSETTO:-0400
TZNAME:EDT
DTSTART:20240310T070000
END:DAYLIGHT
BEGIN:STANDARD
TZOFFSETFROM:-0400
TZOFFSETTO:-0500
TZNAME:EST
DTSTART:20241103T060000
END:STANDARD
BEGIN:DAYLIGHT
TZOFFSETFROM:-0500
TZOFFSETTO:-0400
TZNAME:EDT
DTSTART:20250309T070000
END:DAYLIGHT
BEGIN:STANDARD
TZOFFSETFROM:-0400
TZOFFSETTO:-0500
TZNAME:EST
DTSTART:20251102T060000
END:STANDARD
END:VTIMEZONE
BEGIN:VEVENT
DTSTART;TZID=America/New_York:20240816T120000
DTEND;TZID=America/New_York:20240816T160000
DTSTAMP:20260421T042300
CREATED:20240807T135939Z
LAST-MODIFIED:20240807T135942Z
UID:10002047-1723809600-1723824000@www.nationalfuel.com
SUMMARY:U.S. Representative Mike Kelly’s Veteran Resource Fair
DESCRIPTION:Stop by National Fuel’s table to talk with a representative about the resources available to help manage your energy costs.  All Veterans\, Active Duty service members and Family member are welcome.
URL:https://www.nationalfuel.com/event/u-s-representative-mike-kellys-veteran-resource-fair/
LOCATION:Meadville Downtown Mall\, 900 Water St\, Meadville\, PA\, 16335\, United States
CATEGORIES:Pennsylvania
END:VEVENT
END:VCALENDAR