BEGIN:VCALENDAR
VERSION:2.0
PRODID:-//National Fuel Gas Company - ECPv6.15.20//NONSGML v1.0//EN
CALSCALE:GREGORIAN
METHOD:PUBLISH
X-ORIGINAL-URL:https://www.nationalfuel.com
X-WR-CALDESC:Events for National Fuel Gas Company
REFRESH-INTERVAL;VALUE=DURATION:PT1H
X-Robots-Tag:noindex
X-PUBLISHED-TTL:PT1H
BEGIN:VTIMEZONE
TZID:America/New_York
BEGIN:DAYLIGHT
TZOFFSETFROM:-0500
TZOFFSETTO:-0400
TZNAME:EDT
DTSTART:20230312T070000
END:DAYLIGHT
BEGIN:STANDARD
TZOFFSETFROM:-0400
TZOFFSETTO:-0500
TZNAME:EST
DTSTART:20231105T060000
END:STANDARD
BEGIN:DAYLIGHT
TZOFFSETFROM:-0500
TZOFFSETTO:-0400
TZNAME:EDT
DTSTART:20240310T070000
END:DAYLIGHT
BEGIN:STANDARD
TZOFFSETFROM:-0400
TZOFFSETTO:-0500
TZNAME:EST
DTSTART:20241103T060000
END:STANDARD
BEGIN:DAYLIGHT
TZOFFSETFROM:-0500
TZOFFSETTO:-0400
TZNAME:EDT
DTSTART:20250309T070000
END:DAYLIGHT
BEGIN:STANDARD
TZOFFSETFROM:-0400
TZOFFSETTO:-0500
TZNAME:EST
DTSTART:20251102T060000
END:STANDARD
END:VTIMEZONE
BEGIN:VEVENT
DTSTART;TZID=America/New_York:20241001T163000
DTEND;TZID=America/New_York:20241001T183000
DTSTAMP:20260419T120714
CREATED:20240606T173411Z
LAST-MODIFIED:20240821T122041Z
UID:10001553-1727800200-1727807400@www.nationalfuel.com
SUMMARY:Mrs. Frances Nash's Garden Basket
DESCRIPTION:Mrs. Frances Nash’s Garden Basket Farmers Market! Stop by today for shopping\, music\, activities and more. \nYou are also invited to speak with a National Fuel Representative to talk about the resources available to help manage your energy costs. \nPlease click the link below for more information. \n2024 Farmers Market Schedule
URL:https://www.nationalfuel.com/event/mrs-frances-nashs-garden-basket/2024-10-01/
LOCATION:Garden Basket 2024\, 136 Broadway Ave\, Buffalo\, NY\, 14203\, United States
CATEGORIES:New York
ORGANIZER;CN="National Fuel Outreach":MAILTO:NFG_Outreach@natfuel.com
END:VEVENT
BEGIN:VEVENT
DTSTART;TZID=America/New_York:20241003T100000
DTEND;TZID=America/New_York:20241003T140000
DTSTAMP:20260419T120714
CREATED:20240927T183350Z
LAST-MODIFIED:20240927T183414Z
UID:10002074-1727949600-1727964000@www.nationalfuel.com
SUMMARY:Downtown Country Market
DESCRIPTION:Enjoy home-grown goodness fresh from the farm. The Market provides residents and visitors of Buffalo alike with a delightful shopping experience\, featuring a wide variety of products including the freshest fruits and vegetables\, unique specialty food items\, home-made bath products\, and more. \nYou are also invited to speak with a National Fuel Representative to talk about the resources available to help manage your energy costs. We are available to assist customers with invoice questions as well as: \n·        EAP Application/Enrollment \n·        Deferred Payment Agreements \n·        Budget Plan \n·        Neighbor for Neighbor
URL:https://www.nationalfuel.com/event/downtown-country-market-2/
LOCATION:Downtown Country Market\, 575 Main Street\, Buffalo\, NY\, 14203\, United States
CATEGORIES:New York
ORGANIZER;CN="National Fuel Outreach":MAILTO:NFG_Outreach@natfuel.com
END:VEVENT
BEGIN:VEVENT
DTSTART;TZID=America/New_York:20241003T100000
DTEND;TZID=America/New_York:20241003T150000
DTSTAMP:20260419T120714
CREATED:20240927T183320Z
LAST-MODIFIED:20240927T183325Z
UID:10002079-1727949600-1727967600@www.nationalfuel.com
SUMMARY:Hispanics United
DESCRIPTION:During the months of September and October\, HEAP Outreach will be available in the community to answer HEAP-related questions & accept clean & tune applications for eligible homeowners. \n**HEAP Outreach will not have Regular or Emergency benefit applications available for the 2024/2025 HEAP Season at these sites. The anticipated start of the 2024/2025 HEAP Season is November 2024. \n  \nYou are also invited to speak with a National Fuel Representative to talk about the resources available to help manage your energy costs. We are available to assist customers with invoice questions as well as: \n·        EAP Application/Enrollment \n·        Deferred Payment Agreements \n·        Budget Plan \n·        Neighbor for Neighbor
URL:https://www.nationalfuel.com/event/hispanics-united-2/
LOCATION:Hispanics United\, 254 Virginia St\, Buffalo\, NY\, 14201\, United States
CATEGORIES:New York
ORGANIZER;CN="National Fuel Outreach":MAILTO:NFG_Outreach@natfuel.com
END:VEVENT
BEGIN:VEVENT
DTSTART;TZID=America/New_York:20241003T170000
DTEND;TZID=America/New_York:20241003T183000
DTSTAMP:20260419T120714
CREATED:20240927T183236Z
LAST-MODIFIED:20240927T183241Z
UID:10002077-1727974800-1727980200@www.nationalfuel.com
SUMMARY:West Side Community Center
DESCRIPTION:Free Health and Wellness event to the community happening at West Side Community Center.\nYou are also invited to speak with a National Fuel Representative to talk about the resources available to help manage your energy costs. We are available to assist customers with invoice questions as well as: \n·        EAP Application/Enrollment \n·        Deferred Payment Agreements \n·        Budget Plan \n·        Neighbor for Neighbor
URL:https://www.nationalfuel.com/event/west-side-community-center/
LOCATION:West Side Community Center\, 161 Vermont St\, Buffalo\, NY\, 14213\, United States
CATEGORIES:New York
ORGANIZER;CN="National Fuel Outreach":MAILTO:NFG_Outreach@natfuel.com
END:VEVENT
BEGIN:VEVENT
DTSTART;TZID=America/New_York:20241005T100000
DTEND;TZID=America/New_York:20241005T140000
DTSTAMP:20260419T120714
CREATED:20240927T183138Z
LAST-MODIFIED:20240927T183216Z
UID:10002076-1728122400-1728136800@www.nationalfuel.com
SUMMARY:Domestic Violence Awareness Walk
DESCRIPTION:Family-Friendly Event Included: \n\nSurvivor Tributes\nVendors and Community Partners\nWellness and Relaxation Stations (Including Licensed Therapists)\nKid Zone with Face Painting\n\n2024 DV Awareness Walk Flyer \nYou are also invited to speak with a National Fuel Representative to talk about the resources available to help manage your energy costs. We are available to assist customers with invoice questions as well as: \n·        EAP Application/Enrollment \n·        Deferred Payment Agreements \n·        Budget Plan \n·        Neighbor for Neighbor
URL:https://www.nationalfuel.com/event/domestic-violence-awareness-walk/
LOCATION:Johnnie B Wiley Sports Pavilion\, 1140 Jefferson Ave\, Buffalo\, NY\, 14208\, United States
CATEGORIES:New York
ORGANIZER;CN="National Fuel Outreach":MAILTO:NFG_Outreach@natfuel.com
END:VEVENT
BEGIN:VEVENT
DTSTART;TZID=America/New_York:20241008T093000
DTEND;TZID=America/New_York:20241008T160000
DTSTAMP:20260419T120714
CREATED:20240927T183112Z
LAST-MODIFIED:20240927T183117Z
UID:10002080-1728379800-1728403200@www.nationalfuel.com
SUMMARY:Schiller Park Senior Center
DESCRIPTION:During the months of September and October\, HEAP Outreach will be available in the community to answer HEAP-related questions & accept clean & tune applications for eligible homeowners. \n**HEAP Outreach will not have Regular or Emergency benefit applications available for the 2024/2025 HEAP Season at these sites. The anticipated start of the 2024/2025 HEAP Season is November 2024. \n  \nYou are also invited to speak with a National Fuel Representative to talk about the resources available to help manage your energy costs. We are available to assist customers with invoice questions as well as: \n·        EAP Application/Enrollment \n·        Deferred Payment Agreements \n·        Budget Plan \n·        Neighbor for Neighbor
URL:https://www.nationalfuel.com/event/schiller-park-senior-center-2/
LOCATION:Schiller Park Senior Center\, 2057 Genesee St\, Buffalo\, NY\, 14211\, United States
CATEGORIES:New York
ORGANIZER;CN="National Fuel Outreach":MAILTO:NFG_Outreach@natfuel.com
END:VEVENT
BEGIN:VEVENT
DTSTART;TZID=America/New_York:20241008T163000
DTEND;TZID=America/New_York:20241008T183000
DTSTAMP:20260419T120714
CREATED:20240606T173411Z
LAST-MODIFIED:20240821T122041Z
UID:10001554-1728405000-1728412200@www.nationalfuel.com
SUMMARY:Mrs. Frances Nash's Garden Basket
DESCRIPTION:Mrs. Frances Nash’s Garden Basket Farmers Market! Stop by today for shopping\, music\, activities and more. \nYou are also invited to speak with a National Fuel Representative to talk about the resources available to help manage your energy costs. \nPlease click the link below for more information. \n2024 Farmers Market Schedule
URL:https://www.nationalfuel.com/event/mrs-frances-nashs-garden-basket/2024-10-08/
LOCATION:Garden Basket 2024\, 136 Broadway Ave\, Buffalo\, NY\, 14203\, United States
CATEGORIES:New York
ORGANIZER;CN="National Fuel Outreach":MAILTO:NFG_Outreach@natfuel.com
END:VEVENT
BEGIN:VEVENT
DTSTART;TZID=America/New_York:20241009T100000
DTEND;TZID=America/New_York:20241009T160000
DTSTAMP:20260419T120714
CREATED:20240927T183049Z
LAST-MODIFIED:20240927T183054Z
UID:10002078-1728468000-1728489600@www.nationalfuel.com
SUMMARY:Northland Workforce Training Center
DESCRIPTION:You are invited to speak with a National Fuel Representative to talk about the resources available to help manage your energy costs. We are available to assist customers with invoice questions as well as: \n·        EAP Application/Enrollment \n·        Deferred Payment Agreements \n·        Budget Plan \n·        Neighbor for Neighbor
URL:https://www.nationalfuel.com/event/northland-workforce-training-center/
LOCATION:Northland Workforce Training Center\, 683 Northland Ave\, Buffalo\, NY\, 14211\, United States
CATEGORIES:New York
ORGANIZER;CN="National Fuel Outreach":MAILTO:NFG_Outreach@natfuel.com
END:VEVENT
BEGIN:VEVENT
DTSTART;TZID=America/New_York:20241010T100000
DTEND;TZID=America/New_York:20241010T140000
DTSTAMP:20260419T120715
CREATED:20241002T121631Z
LAST-MODIFIED:20241002T121636Z
UID:10002082-1728554400-1728568800@www.nationalfuel.com
SUMMARY:Resource Council of WNY
DESCRIPTION:You are invited to speak with a National Fuel Representative to talk about the resources available to help manage your energy costs. We are available to assist customers with invoice questions as well as: \n·        EAP Application/Enrollment \n·        Deferred Payment Agreements \n·        Budget Plan \n·        Neighbor for Neighbor
URL:https://www.nationalfuel.com/event/resource-council-of-wny-12/
LOCATION:Resource Council of WNY\, 347 East Ferry Street\, Buffalo\, NY\, 14208\, United States
CATEGORIES:New York
ORGANIZER;CN="National Fuel Outreach":MAILTO:NFG_Outreach@natfuel.com
END:VEVENT
BEGIN:VEVENT
DTSTART;TZID=America/New_York:20241011T090000
DTEND;TZID=America/New_York:20241011T120000
DTSTAMP:20260419T120715
CREATED:20240927T183011Z
LAST-MODIFIED:20240927T183026Z
UID:10002081-1728637200-1728648000@www.nationalfuel.com
SUMMARY:St. John de LaSalle Community Care Food Pantry
DESCRIPTION:St. John de LaSalle Community Care Health & Information Fair  \nYou are also invited to speak with a National Fuel Representative to talk about the resources available to help manage your energy costs. We are available to assist customers with invoice questions as well as: \n·        EAP Application/Enrollment \n·        Deferred Payment Agreements \n·        Budget Plan \n·        Neighbor for Neighbor \n 
URL:https://www.nationalfuel.com/event/st-john-de-lasalle-community-care-food-pantry-2/
LOCATION:St. John de LaSalle Community Care Food Pantry\, 8477 Buffalo Ave\, Niagara Falls\, NY\, 14304\, United States
CATEGORIES:New York
ORGANIZER;CN="National Fuel Outreach":MAILTO:NFG_Outreach@natfuel.com
END:VEVENT
BEGIN:VEVENT
DTSTART;TZID=America/New_York:20241016T100000
DTEND;TZID=America/New_York:20241016T140000
DTSTAMP:20260419T120715
CREATED:20241011T125231Z
LAST-MODIFIED:20241011T125236Z
UID:10002083-1729072800-1729087200@www.nationalfuel.com
SUMMARY:Taste of Faith Food Pantry
DESCRIPTION:You are invited to speak with a National Fuel Representative to talk about the resources available to help manage your energy costs. We are available to assist customers with invoice questions as well as: \n·        EAP Application/Enrollment \n·        Deferred Payment Agreements \n·        Budget Plan \n·        Neighbor for Neighbor
URL:https://www.nationalfuel.com/event/taste-of-faith-food-pantry-5/
LOCATION:Taste of Faith Food Pantry\, 594 Winslow Ave\, Buffalo\, NY\, 14211\, United States
CATEGORIES:New York
ORGANIZER;CN="National Fuel Outreach":MAILTO:NFG_Outreach@natfuel.com
END:VEVENT
BEGIN:VEVENT
DTSTART;TZID=America/New_York:20241017T100000
DTEND;TZID=America/New_York:20241017T140000
DTSTAMP:20260419T120715
CREATED:20240927T182953Z
LAST-MODIFIED:20240927T182958Z
UID:10002075-1729159200-1729173600@www.nationalfuel.com
SUMMARY:Downtown Country Market
DESCRIPTION:Enjoy home-grown goodness fresh from the farm. The Market provides residents and visitors of Buffalo alike with a delightful shopping experience\, featuring a wide variety of products including the freshest fruits and vegetables\, unique specialty food items\, home-made bath products\, and more. \nYou are also invited to speak with a National Fuel Representative to talk about the resources available to help manage your energy costs. We are available to assist customers with invoice questions as well as: \n·        EAP Application/Enrollment \n·        Deferred Payment Agreements \n·        Budget Plan \n·        Neighbor for Neighbor
URL:https://www.nationalfuel.com/event/downtown-country-market/
LOCATION:Downtown Country Market\, 575 Main Street\, Buffalo\, NY\, 14203\, United States
CATEGORIES:New York
ORGANIZER;CN="National Fuel Outreach":MAILTO:NFG_Outreach@natfuel.com
END:VEVENT
BEGIN:VEVENT
DTSTART;TZID=America/New_York:20241017T170000
DTEND;TZID=America/New_York:20241017T183000
DTSTAMP:20260419T120715
CREATED:20241011T125254Z
LAST-MODIFIED:20241011T125259Z
UID:10002084-1729184400-1729189800@www.nationalfuel.com
SUMMARY:Doris W. Jones Family Resource Building
DESCRIPTION:Free Health and Wellness event to the community happening at Doris Jones Family Resource Building.\nYou are also invited to speak with a National Fuel Representative to talk about the resources available to help manage your energy costs. We are available to assist customers with invoice questions as well as: \n·        EAP Application/Enrollment \n·        Deferred Payment Agreements \n·        Budget Plan \n·        Neighbor for Neighbor \n 
URL:https://www.nationalfuel.com/event/doris-w-jones-family-resource-building/
LOCATION:Doris W. Jones Family Resource Building\, 3001 9th St\, Niagara Falls\, NY\, 14305\, United States
CATEGORIES:New York
ORGANIZER;CN="National Fuel Outreach":MAILTO:NFG_Outreach@natfuel.com
END:VEVENT
BEGIN:VEVENT
DTSTART;TZID=America/New_York:20241019T110000
DTEND;TZID=America/New_York:20241019T160000
DTSTAMP:20260419T120715
CREATED:20241011T125317Z
LAST-MODIFIED:20241011T125322Z
UID:10002085-1729335600-1729353600@www.nationalfuel.com
SUMMARY:2024 Community Harvest Festival
DESCRIPTION:Our Family Daycare is hosting their 1st Harvest Festival on October 19\, 2024\, from 11am until 6pm on the entire block of Rogers Avenue in Buffalo.\nYou are also invited to speak with a National Fuel Representative to talk about the resources available to help manage your energy costs. We are available to assist customers with invoice questions as well as: \n·        EAP Application/Enrollment \n·        Deferred Payment Agreements \n·        Budget Plan \n·        Neighbor for Neighbor
URL:https://www.nationalfuel.com/event/2024-community-harvest-festival/
LOCATION:Our Family Daycare\, 33 Rogers Avenue\, Buffalo\, NY\, 14211\, United States
CATEGORIES:New York
ORGANIZER;CN="National Fuel Outreach":MAILTO:NFG_Outreach@natfuel.com
END:VEVENT
BEGIN:VEVENT
DTSTART;TZID=America/New_York:20241021T173000
DTEND;TZID=America/New_York:20241021T190000
DTSTAMP:20260419T120715
CREATED:20241011T125409Z
LAST-MODIFIED:20241011T125414Z
UID:10002086-1729531800-1729537200@www.nationalfuel.com
SUMMARY:Winter Preparedness Fairs 2024
DESCRIPTION:Join the Buffalo Common Council for the second annual Winter Preparedness Series\, a FREE event hosted at NINE locations throughout the City of Buffalo.\nRegistered attendees will receive a winter kit (one per household) and essential tips and take aways from local organizations to ensure we are best prepared for the winter season ahead.\nYou are also invited to speak with a National Fuel Representative to talk about the resources available to help manage your energy costs. We are available to assist customers with invoice questions as well as: \n·        EAP Application/Enrollment \n·        Deferred Payment Agreements \n·        Budget Plan \n·        Neighbor for Neighbor
URL:https://www.nationalfuel.com/event/winter-preparedness-fairs-2024/
LOCATION:Lincoln Center\, 10 Quincy St\, Buffalo\, NY\, 14212\, United States
CATEGORIES:New York
ORGANIZER;CN="National Fuel Outreach":MAILTO:NFG_Outreach@natfuel.com
END:VEVENT
BEGIN:VEVENT
DTSTART;TZID=America/New_York:20241022T100000
DTEND;TZID=America/New_York:20241022T180000
DTSTAMP:20260419T120715
CREATED:20241011T125634Z
LAST-MODIFIED:20241011T125649Z
UID:10002090-1729591200-1729620000@www.nationalfuel.com
SUMMARY:Delavan Grider Community Center
DESCRIPTION:During the months of September and October\, HEAP Outreach will be available in the community to answer HEAP-related questions & accept clean & tune applications for eligible homeowners. \n**HEAP Outreach will not have Regular or Emergency benefit applications available for the 2024/2025 HEAP Season at these sites. The anticipated start of the 2024/2025 HEAP Season is November 2024. \n  \nYou are also invited to speak with a National Fuel Representative to talk about the resources available to help manage your energy costs. We are available to assist customers with invoice questions as well as: \n·        EAP Application/Enrollment \n·        Deferred Payment Agreements \n·        Budget Plan \n·        Neighbor for Neighbor
URL:https://www.nationalfuel.com/event/delavan-grider-community-center-2/
LOCATION:Delavan Grider Community Center\, 877 E Delavan Ave\, Buffalo\, NY\, 14215\, United States
CATEGORIES:New York
ORGANIZER;CN="National Fuel Outreach":MAILTO:NFG_Outreach@natfuel.com
END:VEVENT
BEGIN:VEVENT
DTSTART;TZID=America/New_York:20241022T103000
DTEND;TZID=America/New_York:20241022T120000
DTSTAMP:20260419T120715
CREATED:20241011T125731Z
LAST-MODIFIED:20241011T125748Z
UID:10002091-1729593000-1729598400@www.nationalfuel.com
SUMMARY:Buffalo Passport Agency
DESCRIPTION:You are invited to speak with a National Fuel Representative to talk about the resources available to help manage your energy costs. We are available to assist customers with invoice questions as well as: \n·        EAP Application/Enrollment \n·        Deferred Payment Agreements \n·        Budget Plan \n·        Neighbor for Neighbor
URL:https://www.nationalfuel.com/event/buffalo-passport-agency/
LOCATION:Buffalo Passport Agency\, 111 Genesee St Ste 101\, Buffalo\, NY\, 14203\, United States
CATEGORIES:New York
ORGANIZER;CN="National Fuel Outreach":MAILTO:NFG_Outreach@natfuel.com
END:VEVENT
BEGIN:VEVENT
DTSTART;TZID=America/New_York:20241022T160000
DTEND;TZID=America/New_York:20241022T180000
DTSTAMP:20260419T120715
CREATED:20241011T125807Z
LAST-MODIFIED:20241011T125812Z
UID:10002092-1729612800-1729620000@www.nationalfuel.com
SUMMARY:Packard Court Community Center
DESCRIPTION:Free Health and Wellness event to the community happening at Packard Court Community Center.\nYou are also invited to speak with a National Fuel Representative to talk about the resources available to help manage your energy costs. We are available to assist customers with invoice questions as well as: \n·        EAP Application/Enrollment \n·        Deferred Payment Agreements \n·        Budget Plan \n·        Neighbor for Neighbor
URL:https://www.nationalfuel.com/event/packard-court-community-center-2/
LOCATION:NY
CATEGORIES:New York
END:VEVENT
BEGIN:VEVENT
DTSTART;TZID=America/New_York:20241023T100000
DTEND;TZID=America/New_York:20241023T140000
DTSTAMP:20260419T120715
CREATED:20241011T125829Z
LAST-MODIFIED:20241011T125834Z
UID:10002093-1729677600-1729692000@www.nationalfuel.com
SUMMARY:Taste of Faith Food Pantry
DESCRIPTION:You are invited to speak with a National Fuel Representative to talk about the resources available to help manage your energy costs. We are available to assist customers with invoice questions as well as: \n·        EAP Application/Enrollment \n·        Deferred Payment Agreements \n·        Budget Plan \n·        Neighbor for Neighbor
URL:https://www.nationalfuel.com/event/taste-of-faith-food-pantry-6/
LOCATION:Taste of Faith Food Pantry\, 594 Winslow Ave\, Buffalo\, NY\, 14211\, United States
CATEGORIES:New York
ORGANIZER;CN="National Fuel Outreach":MAILTO:NFG_Outreach@natfuel.com
END:VEVENT
BEGIN:VEVENT
DTSTART;TZID=America/New_York:20241023T110000
DTEND;TZID=America/New_York:20241023T150000
DTSTAMP:20260419T120715
CREATED:20241011T125850Z
LAST-MODIFIED:20241011T125945Z
UID:10002094-1729681200-1729695600@www.nationalfuel.com
SUMMARY:Community Resource Fair
DESCRIPTION:You are invited to speak with a National Fuel Representative to talk about the resources available to help manage your energy costs. We are available to assist customers with invoice questions as well as: \n·        EAP Application/Enrollment \n·        Deferred Payment Agreements \n·        Budget Plan \n·        Neighbor for Neighbor
URL:https://www.nationalfuel.com/event/community-resource-fair/
LOCATION:Buffalo & Erie County Public Library\, 1 Lafayette Sq\, Buffalo\, NY\, 14203\, United States
CATEGORIES:New York
ORGANIZER;CN="National Fuel Outreach":MAILTO:NFG_Outreach@natfuel.com
END:VEVENT
BEGIN:VEVENT
DTSTART;TZID=America/New_York:20241023T173000
DTEND;TZID=America/New_York:20241023T190000
DTSTAMP:20260419T120715
CREATED:20241018T125910Z
LAST-MODIFIED:20241018T125916Z
UID:10002097-1729704600-1729710000@www.nationalfuel.com
SUMMARY:Winter Preparedness Fairs 2024
DESCRIPTION:Join the Buffalo Common Council for the second annual Winter Preparedness Series\, a FREE event hosted at NINE locations throughout the City of Buffalo.\nRegistered attendees will receive a winter kit (one per household) and essential tips and take aways from local organizations to ensure we are best prepared for the winter season ahead.\nYou are also invited to speak with a National Fuel Representative to talk about the resources available to help manage your energy costs. We are available to assist customers with invoice questions as well as: \n·        EAP Application/Enrollment \n·        Deferred Payment Agreements \n·        Budget Plan \n·        Neighbor for Neighbor
URL:https://www.nationalfuel.com/event/winter-preparedness-fairs-2024-5/
LOCATION:Schiller Park Senior Center\, 2057 Genesee St\, Buffalo\, NY\, 14211\, United States
CATEGORIES:New York
ORGANIZER;CN="National Fuel Outreach":MAILTO:NFG_Outreach@natfuel.com
END:VEVENT
BEGIN:VEVENT
DTSTART;TZID=America/New_York:20241024T100000
DTEND;TZID=America/New_York:20241024T140000
DTSTAMP:20260419T120715
CREATED:20241011T130006Z
LAST-MODIFIED:20241011T130035Z
UID:10002095-1729764000-1729778400@www.nationalfuel.com
SUMMARY:Resource Council of WNY
DESCRIPTION:You are invited to speak with a National Fuel Representative to talk about the resources available to help manage your energy costs. We are available to assist customers with invoice questions as well as: \n·        EAP Application/Enrollment \n·        Deferred Payment Agreements \n·        Budget Plan \n·        Neighbor for Neighbor
URL:https://www.nationalfuel.com/event/resource-council-of-wny-13/
LOCATION:Resource Council of WNY\, 347 East Ferry Street\, Buffalo\, NY\, 14208\, United States
CATEGORIES:New York
ORGANIZER;CN="National Fuel Outreach":MAILTO:NFG_Outreach@natfuel.com
END:VEVENT
BEGIN:VEVENT
DTSTART;TZID=America/New_York:20241024T110000
DTEND;TZID=America/New_York:20241024T140000
DTSTAMP:20260419T120715
CREATED:20241018T143007Z
LAST-MODIFIED:20241011T130055Z
UID:10002096-1729767600-1729778400@www.nationalfuel.com
SUMMARY:National Grid Community Day
DESCRIPTION:National Grid would like to invite you to attend a Community Day that they are sponsoring\, in conjunction with the Michigan Street African American Corridor.\nYou are also invited to speak with a National Fuel Representative to talk about the resources available to help manage your energy costs. We are available to assist customers with invoice questions as well as: \n·        EAP Application/Enrollment \n·        Deferred Payment Agreements \n·        Budget Plan \n·        Neighbor for Neighbor \nPlease click on the flyer below for more information.\nNational Grid – Customer Savings Event 10-24-2024
URL:https://www.nationalfuel.com/event/national-grid-community-day/
LOCATION:Michigan Street African American Heritage Corridor\, 119 Broadway\, Buffalo\, NY\, 14203\, United States
CATEGORIES:New York
ORGANIZER;CN="National Fuel Outreach":MAILTO:NFG_Outreach@natfuel.com
END:VEVENT
BEGIN:VEVENT
DTSTART;TZID=America/New_York:20241026T110000
DTEND;TZID=America/New_York:20241026T130000
DTSTAMP:20260419T120715
CREATED:20241011T125532Z
LAST-MODIFIED:20241011T125536Z
UID:10002087-1729940400-1729947600@www.nationalfuel.com
SUMMARY:Winter Preparedness Fairs 2024
DESCRIPTION:Join the Buffalo Common Council for the second annual Winter Preparedness Series\, a FREE event hosted at NINE locations throughout the City of Buffalo.\nRegistered attendees will receive a winter kit (one per household) and essential tips and take aways from local organizations to ensure we are best prepared for the winter season ahead.\nYou are also invited to speak with a National Fuel Representative to talk about the resources available to help manage your energy costs. We are available to assist customers with invoice questions as well as: \n·        EAP Application/Enrollment \n·        Deferred Payment Agreements \n·        Budget Plan \n·        Neighbor for Neighbor
URL:https://www.nationalfuel.com/event/winter-preparedness-fairs-2024-3/
LOCATION:Tosh Collins Senior Center\, 35 Cazenovia St\, Buffalo\, NY\, 14220\, United States
CATEGORIES:New York
ORGANIZER;CN="National Fuel Outreach":MAILTO:NFG_Outreach@natfuel.com
END:VEVENT
BEGIN:VEVENT
DTSTART;TZID=America/New_York:20241028T173000
DTEND;TZID=America/New_York:20241028T190000
DTSTAMP:20260419T120715
CREATED:20241011T125615Z
LAST-MODIFIED:20241011T125714Z
UID:10002088-1730136600-1730142000@www.nationalfuel.com
SUMMARY:Winter Preparedness Fairs 2024
DESCRIPTION:Join the Buffalo Common Council for the second annual Winter Preparedness Series\, a FREE event hosted at NINE locations throughout the City of Buffalo.\nRegistered attendees will receive a winter kit (one per household) and essential tips and take aways from local organizations to ensure we are best prepared for the winter season ahead.\nYou are also invited to speak with a National Fuel Representative to talk about the resources available to help manage your energy costs. We are available to assist customers with invoice questions as well as: \n·        EAP Application/Enrollment \n·        Deferred Payment Agreements \n·        Budget Plan \n·        Neighbor for Neighbor
URL:https://www.nationalfuel.com/event/winter-preparedness-fairs-2024-4/
LOCATION:North Buffalo Community Development Corporation\, 203 Sanders Rd\, Buffalo\, NY\, 14216\, United States
CATEGORIES:New York
ORGANIZER;CN="National Fuel Outreach":MAILTO:NFG_Outreach@natfuel.com
END:VEVENT
BEGIN:VEVENT
DTSTART;TZID=America/New_York:20241030T173000
DTEND;TZID=America/New_York:20241030T190000
DTSTAMP:20260419T120715
CREATED:20241011T125444Z
LAST-MODIFIED:20241011T125558Z
UID:10002089-1730309400-1730314800@www.nationalfuel.com
SUMMARY:Winter Preparedness Fairs 2024
DESCRIPTION:Join the Buffalo Common Council for the second annual Winter Preparedness Series\, a FREE event hosted at NINE locations throughout the City of Buffalo.\nRegistered attendees will receive a winter kit (one per household) and essential tips and take aways from local organizations to ensure we are best prepared for the winter season ahead.\nYou are also invited to speak with a National Fuel Representative to talk about the resources available to help manage your energy costs. We are available to assist customers with invoice questions as well as: \n·        EAP Application/Enrollment \n·        Deferred Payment Agreements \n·        Budget Plan \n·        Neighbor for Neighbor
URL:https://www.nationalfuel.com/event/winter-preparedness-fairs-2024-2/
LOCATION:The Belle Center\, 104 Maryland St\, Buffalo\, NY\, 14201\, United States
CATEGORIES:New York
ORGANIZER;CN="National Fuel Outreach":MAILTO:NFG_Outreach@natfuel.com
END:VEVENT
END:VCALENDAR