BEGIN:VCALENDAR
VERSION:2.0
PRODID:-//National Fuel Gas Company - ECPv6.15.20//NONSGML v1.0//EN
CALSCALE:GREGORIAN
METHOD:PUBLISH
X-ORIGINAL-URL:https://www.nationalfuel.com
X-WR-CALDESC:Events for National Fuel Gas Company
REFRESH-INTERVAL;VALUE=DURATION:PT1H
X-Robots-Tag:noindex
X-PUBLISHED-TTL:PT1H
BEGIN:VTIMEZONE
TZID:America/New_York
BEGIN:DAYLIGHT
TZOFFSETFROM:-0500
TZOFFSETTO:-0400
TZNAME:EDT
DTSTART:20230312T070000
END:DAYLIGHT
BEGIN:STANDARD
TZOFFSETFROM:-0400
TZOFFSETTO:-0500
TZNAME:EST
DTSTART:20231105T060000
END:STANDARD
BEGIN:DAYLIGHT
TZOFFSETFROM:-0500
TZOFFSETTO:-0400
TZNAME:EDT
DTSTART:20240310T070000
END:DAYLIGHT
BEGIN:STANDARD
TZOFFSETFROM:-0400
TZOFFSETTO:-0500
TZNAME:EST
DTSTART:20241103T060000
END:STANDARD
BEGIN:DAYLIGHT
TZOFFSETFROM:-0500
TZOFFSETTO:-0400
TZNAME:EDT
DTSTART:20250309T070000
END:DAYLIGHT
BEGIN:STANDARD
TZOFFSETFROM:-0400
TZOFFSETTO:-0500
TZNAME:EST
DTSTART:20251102T060000
END:STANDARD
END:VTIMEZONE
BEGIN:VEVENT
DTSTART;TZID=America/New_York:20241202T090000
DTEND;TZID=America/New_York:20241202T150000
DTSTAMP:20260419T131624
CREATED:20241121T235405Z
LAST-MODIFIED:20241121T235410Z
UID:10002129-1733130000-1733151600@www.nationalfuel.com
SUMMARY:Town of Eden
DESCRIPTION:**HEAP Outreach will have Regular benefit applications available for the 2024/2025 HEAP Season. \nYou are also invited to speak with a National Fuel Representative to talk about the resources available to help manage your energy costs. We are available to assist customers with invoice questions as well as: \n·        EAP Application/Enrollment \n·        Deferred Payment Agreements \n·        Budget Plan \n·        Neighbor for Neighbor
URL:https://www.nationalfuel.com/event/town-of-eden/
LOCATION:Town of Eden\, 2795 E. Church St\, Eden\, NY\, 14057\, United States
CATEGORIES:New York
ORGANIZER;CN="National Fuel Outreach":MAILTO:NFG_Outreach@natfuel.com
END:VEVENT
BEGIN:VEVENT
DTSTART;TZID=America/New_York:20241202T100000
DTEND;TZID=America/New_York:20241202T140000
DTSTAMP:20260419T131624
CREATED:20241029T115942Z
LAST-MODIFIED:20241223T141142Z
UID:10002136-1733133600-1733148000@www.nationalfuel.com
SUMMARY:Erie County HEAP Office
DESCRIPTION:You are invited to speak with a National Fuel Representative to talk about the resources available to help manage your energy costs. We are available to assist customers with invoice questions as well as: \n·        EAP Application/Enrollment \n·        Deferred Payment Agreements \n·        Budget Plan \n·        Neighbor for Neighbor
URL:https://www.nationalfuel.com/event/erie-county-heap-office-7/2024-12-02/
LOCATION:Erie County HEAP Office\, 460 Main St\, Buffalo\, NY\, 14202\, United States
CATEGORIES:New York
ORGANIZER;CN="National Fuel Outreach":MAILTO:NFG_Outreach@natfuel.com
END:VEVENT
BEGIN:VEVENT
DTSTART;TZID=America/New_York:20241203T110000
DTEND;TZID=America/New_York:20241203T170000
DTSTAMP:20260419T131624
CREATED:20241121T235430Z
LAST-MODIFIED:20241121T235437Z
UID:10002130-1733223600-1733245200@www.nationalfuel.com
SUMMARY:Newstead Library
DESCRIPTION:**HEAP Outreach will have Regular benefit applications available for the 2024/2025 HEAP Season. \nYou are also invited to speak with a National Fuel Representative to talk about the resources available to help manage your energy costs. We are available to assist customers with invoice questions as well as: \n·        EAP Application/Enrollment \n·        Deferred Payment Agreements \n·        Budget Plan \n·        Neighbor for Neighbor
URL:https://www.nationalfuel.com/event/newstead-library/
LOCATION:Newstead Library\, 33 Main St\, Akron\, NY\, 14001\, United States
CATEGORIES:New York
ORGANIZER;CN="National Fuel Outreach":MAILTO:NFG_Outreach@natfuel.com
END:VEVENT
BEGIN:VEVENT
DTSTART;TZID=America/New_York:20241204T110000
DTEND;TZID=America/New_York:20241204T140000
DTSTAMP:20260419T131624
CREATED:20241121T235646Z
LAST-MODIFIED:20241121T235652Z
UID:10002131-1733310000-1733320800@www.nationalfuel.com
SUMMARY:Hamburg Senior Center
DESCRIPTION:**HEAP Outreach will have Regular benefit applications available for the 2024/2025 HEAP Season. \nYou are also invited to speak with a National Fuel Representative to talk about the resources available to help manage your energy costs. We are available to assist customers with invoice questions as well as: \n·        EAP Application/Enrollment \n·        Deferred Payment Agreements \n·        Budget Plan \n·        Neighbor for Neighbor
URL:https://www.nationalfuel.com/event/hamburg-senior-center-2/
LOCATION:Hamburg Senior Center\, 4540 Southwestern Blvd\, Hamburg\, NY\, 14075\, United States
CATEGORIES:New York
ORGANIZER;CN="National Fuel Outreach":MAILTO:NFG_Outreach@natfuel.com
END:VEVENT
BEGIN:VEVENT
DTSTART;TZID=America/New_York:20241205T090000
DTEND;TZID=America/New_York:20241205T160000
DTSTAMP:20260419T131624
CREATED:20241121T235710Z
LAST-MODIFIED:20241121T235723Z
UID:10002132-1733389200-1733414400@www.nationalfuel.com
SUMMARY:Hispanos Unidos De Buffalo (Hispanics United)
DESCRIPTION:**HEAP Outreach will have Regular benefit applications available for the 2024/2025 HEAP Season. \nYou are also invited to speak with a National Fuel Representative to talk about the resources available to help manage your energy costs. We are available to assist customers with invoice questions as well as: \n·        EAP Application/Enrollment \n·        Deferred Payment Agreements \n·        Budget Plan \n·        Neighbor for Neighbor
URL:https://www.nationalfuel.com/event/hispanos-unidos-de-buffalo-hispanics-united/
LOCATION:Hispanics United\, 254 Virginia St\, Buffalo\, NY\, 14201\, United States
CATEGORIES:New York
ORGANIZER;CN="National Fuel Outreach":MAILTO:NFG_Outreach@natfuel.com
END:VEVENT
BEGIN:VEVENT
DTSTART;TZID=America/New_York:20241206T090000
DTEND;TZID=America/New_York:20241206T150000
DTSTAMP:20260419T131624
CREATED:20241121T235745Z
LAST-MODIFIED:20241121T235803Z
UID:10002133-1733475600-1733497200@www.nationalfuel.com
SUMMARY:West Seneca Senior Center
DESCRIPTION:**HEAP Outreach will have Regular benefit applications available for the 2024/2025 HEAP Season. \nYou are also invited to speak with a National Fuel Representative to talk about the resources available to help manage your energy costs. We are available to assist customers with invoice questions as well as: \n·        EAP Application/Enrollment \n·        Deferred Payment Agreements \n·        Budget Plan \n·        Neighbor for Neighbor
URL:https://www.nationalfuel.com/event/west-seneca-senior-center-2/
LOCATION:West Seneca Senior Center\, 4620 Seneca St\, West Seneca\, NY\, 14224\, United States
CATEGORIES:New York
ORGANIZER;CN="National Fuel Outreach":MAILTO:NFG_Outreach@natfuel.com
END:VEVENT
BEGIN:VEVENT
DTSTART;TZID=America/New_York:20241209T100000
DTEND;TZID=America/New_York:20241209T140000
DTSTAMP:20260419T131624
CREATED:20241029T115942Z
LAST-MODIFIED:20241223T141142Z
UID:10002137-1733738400-1733752800@www.nationalfuel.com
SUMMARY:Erie County HEAP Office
DESCRIPTION:You are invited to speak with a National Fuel Representative to talk about the resources available to help manage your energy costs. We are available to assist customers with invoice questions as well as: \n·        EAP Application/Enrollment \n·        Deferred Payment Agreements \n·        Budget Plan \n·        Neighbor for Neighbor
URL:https://www.nationalfuel.com/event/erie-county-heap-office-7/2024-12-09/
LOCATION:Erie County HEAP Office\, 460 Main St\, Buffalo\, NY\, 14202\, United States
CATEGORIES:New York
ORGANIZER;CN="National Fuel Outreach":MAILTO:NFG_Outreach@natfuel.com
END:VEVENT
BEGIN:VEVENT
DTSTART;TZID=America/New_York:20241210T090000
DTEND;TZID=America/New_York:20241210T160000
DTSTAMP:20260419T131624
CREATED:20241211T091339Z
LAST-MODIFIED:20241211T091344Z
UID:10002141-1733821200-1733846400@www.nationalfuel.com
SUMMARY:Tosh Collins Senior Center
DESCRIPTION:**HEAP Outreach will have Regular benefit applications available for the 2024/2025 HEAP Season. \nYou are also invited to speak with a National Fuel Representative to talk about the resources available to help manage your energy costs. We are available to assist customers with invoice questions as well as: \n·        EAP Application/Enrollment \n·        Deferred Payment Agreements \n·        Budget Plan \n·        Neighbor for Neighbor
URL:https://www.nationalfuel.com/event/tosh-collins-senior-center-2/
LOCATION:Tosh Collins Senior Center\, 35 Cazenovia St\, Buffalo\, NY\, 14220\, United States
CATEGORIES:New York
ORGANIZER;CN="National Fuel Outreach":MAILTO:NFG_Outreach@natfuel.com
END:VEVENT
BEGIN:VEVENT
DTSTART;TZID=America/New_York:20241214T100000
DTEND;TZID=America/New_York:20241214T130000
DTSTAMP:20260419T131624
CREATED:20241211T091433Z
LAST-MODIFIED:20241211T091449Z
UID:10002143-1734170400-1734181200@www.nationalfuel.com
SUMMARY:Highgate Heights Elementary
DESCRIPTION:You are invited to speak with a National Fuel Representative to talk about the resources available to help manage your energy costs. We are available to assist customers with invoice questions as well as: \n·        EAP Application/Enrollment \n·        Deferred Payment Agreements \n·        Budget Plan \n·        Neighbor for Neighbor
URL:https://www.nationalfuel.com/event/highgate-heights-elementary-3/
LOCATION:Highgate Heights Elementary School\, 600 Highgate Ave\, Buffalo\, NY\, 14215\, United States
CATEGORIES:New York
ORGANIZER;CN="National Fuel Outreach":MAILTO:NFG_Outreach@natfuel.com
END:VEVENT
BEGIN:VEVENT
DTSTART;TZID=America/New_York:20241216T100000
DTEND;TZID=America/New_York:20241216T140000
DTSTAMP:20260419T131624
CREATED:20241029T115942Z
LAST-MODIFIED:20241223T141142Z
UID:10002138-1734343200-1734357600@www.nationalfuel.com
SUMMARY:Erie County HEAP Office
DESCRIPTION:You are invited to speak with a National Fuel Representative to talk about the resources available to help manage your energy costs. We are available to assist customers with invoice questions as well as: \n·        EAP Application/Enrollment \n·        Deferred Payment Agreements \n·        Budget Plan \n·        Neighbor for Neighbor
URL:https://www.nationalfuel.com/event/erie-county-heap-office-7/2024-12-16/
LOCATION:Erie County HEAP Office\, 460 Main St\, Buffalo\, NY\, 14202\, United States
CATEGORIES:New York
ORGANIZER;CN="National Fuel Outreach":MAILTO:NFG_Outreach@natfuel.com
END:VEVENT
BEGIN:VEVENT
DTSTART;TZID=America/New_York:20241216T100000
DTEND;TZID=America/New_York:20241216T163000
DTSTAMP:20260419T131625
CREATED:20241211T091502Z
LAST-MODIFIED:20241211T091506Z
UID:10002144-1734343200-1734366600@www.nationalfuel.com
SUMMARY:Access of WNY
DESCRIPTION:**HEAP Outreach will have Regular benefit applications available for the 2024/2025 HEAP Season. \nYou are also invited to speak with a National Fuel Representative to talk about the resources available to help manage your energy costs. We are available to assist customers with invoice questions as well as: \n·        EAP Application/Enrollment \n·        Deferred Payment Agreements \n·        Budget Plan \n·        Neighbor for Neighbor
URL:https://www.nationalfuel.com/event/access-of-wny-2/
LOCATION:Access of WNY\, 609 Ridge Rd\, Lackawanna\, NY\, 14218\, United States
CATEGORIES:New York
ORGANIZER;CN="National Fuel Outreach":MAILTO:NFG_Outreach@natfuel.com
END:VEVENT
BEGIN:VEVENT
DTSTART;TZID=America/New_York:20241217T090000
DTEND;TZID=America/New_York:20241217T130000
DTSTAMP:20260419T131625
CREATED:20241211T091521Z
LAST-MODIFIED:20241211T091525Z
UID:10002145-1734426000-1734440400@www.nationalfuel.com
SUMMARY:Orchard Park Community Center
DESCRIPTION:**HEAP Outreach will have Regular benefit applications available for the 2024/2025 HEAP Season. \nYou are also invited to speak with a National Fuel Representative to talk about the resources available to help manage your energy costs. We are available to assist customers with invoice questions as well as: \n·        EAP Application/Enrollment \n·        Deferred Payment Agreements \n·        Budget Plan \n·        Neighbor for Neighbor
URL:https://www.nationalfuel.com/event/orchard-park-community-center-3/
LOCATION:Orchard Park Community Center\, 4600 California Rd\, Orchard Park\, NY\, 14127\, United States
CATEGORIES:New York
ORGANIZER;CN="National Fuel Outreach":MAILTO:NFG_Outreach@natfuel.com
END:VEVENT
BEGIN:VEVENT
DTSTART;TZID=America/New_York:20241218T100000
DTEND;TZID=America/New_York:20241218T120000
DTSTAMP:20260419T131625
CREATED:20241211T091540Z
LAST-MODIFIED:20241211T091557Z
UID:10002146-1734516000-1734523200@www.nationalfuel.com
SUMMARY:West Side Community Services
DESCRIPTION:**HEAP Outreach will have Regular benefit applications available for the 2024/2025 HEAP Season. \nYou are also invited to speak with a National Fuel Representative to talk about the resources available to help manage your energy costs. We are available to assist customers with invoice questions as well as: \n·        EAP Application/Enrollment \n·        Deferred Payment Agreements \n·        Budget Plan \n·        Neighbor for Neighbor
URL:https://www.nationalfuel.com/event/west-side-community-services/
LOCATION:West Side Community Center\, 161 Vermont St\, Buffalo\, NY\, 14213\, United States
CATEGORIES:New York
ORGANIZER;CN="National Fuel Outreach":MAILTO:NFG_Outreach@natfuel.com
END:VEVENT
BEGIN:VEVENT
DTSTART;TZID=America/New_York:20241218T123000
DTEND;TZID=America/New_York:20241218T150000
DTSTAMP:20260419T131625
CREATED:20241211T091615Z
LAST-MODIFIED:20241211T091619Z
UID:10002147-1734525000-1734534000@www.nationalfuel.com
SUMMARY:Provisions 139 Pantry
DESCRIPTION:**HEAP Outreach will have Regular benefit applications available for the 2024/2025 HEAP Season. \nYou are also invited to speak with a National Fuel Representative to talk about the resources available to help manage your energy costs. We are available to assist customers with invoice questions as well as: \n·        EAP Application/Enrollment \n·        Deferred Payment Agreements \n·        Budget Plan \n·        Neighbor for Neighbor
URL:https://www.nationalfuel.com/event/provisions-139-pantry/
LOCATION:Provisions 139 Pantry\, 44 Breckenridge St\, Buffalo\, NY\, 14213\, United States
CATEGORIES:New York
ORGANIZER;CN="National Fuel Outreach":MAILTO:NFG_Outreach@natfuel.com
END:VEVENT
BEGIN:VEVENT
DTSTART;TZID=America/New_York:20241218T140000
DTEND;TZID=America/New_York:20241218T170000
DTSTAMP:20260419T131625
CREATED:20241211T091635Z
LAST-MODIFIED:20241211T091639Z
UID:10002148-1734530400-1734541200@www.nationalfuel.com
SUMMARY:Autumnwood Senior Center
DESCRIPTION:**HEAP Outreach will have Regular benefit applications available for the 2024/2025 HEAP Season. \nYou are also invited to speak with a National Fuel Representative to talk about the resources available to help manage your energy costs. We are available to assist customers with invoice questions as well as: \n·        EAP Application/Enrollment \n·        Deferred Payment Agreements \n·        Budget Plan \n·        Neighbor for Neighbor
URL:https://www.nationalfuel.com/event/autumnwood-senior-center/
LOCATION:Autumnwood Senior Center\, 1800 Clinton Street\, Buffalo\, NY\, 14206\, United States
CATEGORIES:New York
ORGANIZER;CN="National Fuel Outreach":MAILTO:NFG_Outreach@natfuel.com
END:VEVENT
BEGIN:VEVENT
DTSTART;TZID=America/New_York:20241219T083000
DTEND;TZID=America/New_York:20241219T120000
DTSTAMP:20260419T131625
CREATED:20241211T091655Z
LAST-MODIFIED:20241211T091659Z
UID:10002149-1734597000-1734609600@www.nationalfuel.com
SUMMARY:City of Tonawanda Senior Center
DESCRIPTION:**HEAP Outreach will have Regular benefit applications available for the 2024/2025 HEAP Season. \nYou are also invited to speak with a National Fuel Representative to talk about the resources available to help manage your energy costs. We are available to assist customers with invoice questions as well as: \n·        EAP Application/Enrollment \n·        Deferred Payment Agreements \n·        Budget Plan \n·        Neighbor for Neighbor
URL:https://www.nationalfuel.com/event/city-of-tonawanda-senior-center/
LOCATION:City of Tonawanda Senior Center\, 35 Main Street\, Tonawanda\, NY\, 14150\, United States
CATEGORIES:New York
ORGANIZER;CN="National Fuel Outreach":MAILTO:NFG_Outreach@natfuel.com
END:VEVENT
BEGIN:VEVENT
DTSTART;TZID=America/New_York:20241219T110000
DTEND;TZID=America/New_York:20241219T160000
DTSTAMP:20260419T131625
CREATED:20241211T091714Z
LAST-MODIFIED:20250818T181356Z
UID:10002150-1734606000-1734624000@www.nationalfuel.com
SUMMARY:Central Library Downtown
DESCRIPTION:**HEAP Outreach will have Regular benefit applications available for the 2024/2025 HEAP Season. \nYou are also invited to speak with a National Fuel Representative to talk about the resources available to help manage your energy costs. We are available to assist customers with invoice questions as well as: \n·        EAP Application/Enrollment \n·        Deferred Payment Agreements \n·        Budget Plan \n·        Neighbor for Neighbor
URL:https://www.nationalfuel.com/event/central-library-downtown-2/
LOCATION:Buffalo & Erie County Public Library\, 1 Lafayette Sq\, Buffalo\, NY\, 14203\, United States
CATEGORIES:New York
ORGANIZER;CN="National Fuel Outreach":MAILTO:NFG_Outreach@natfuel.com
END:VEVENT
BEGIN:VEVENT
DTSTART;TZID=America/New_York:20241223T100000
DTEND;TZID=America/New_York:20241223T140000
DTSTAMP:20260419T131625
CREATED:20241029T115942Z
LAST-MODIFIED:20241223T141142Z
UID:10002139-1734948000-1734962400@www.nationalfuel.com
SUMMARY:Erie County HEAP Office
DESCRIPTION:You are invited to speak with a National Fuel Representative to talk about the resources available to help manage your energy costs. We are available to assist customers with invoice questions as well as: \n·        EAP Application/Enrollment \n·        Deferred Payment Agreements \n·        Budget Plan \n·        Neighbor for Neighbor
URL:https://www.nationalfuel.com/event/erie-county-heap-office-7/2024-12-23/
LOCATION:Erie County HEAP Office\, 460 Main St\, Buffalo\, NY\, 14202\, United States
CATEGORIES:New York
ORGANIZER;CN="National Fuel Outreach":MAILTO:NFG_Outreach@natfuel.com
END:VEVENT
BEGIN:VEVENT
DTSTART;TZID=America/New_York:20241230T100000
DTEND;TZID=America/New_York:20241230T140000
DTSTAMP:20260419T131625
CREATED:20241029T115942Z
LAST-MODIFIED:20241223T141142Z
UID:10002140-1735552800-1735567200@www.nationalfuel.com
SUMMARY:Erie County HEAP Office
DESCRIPTION:You are invited to speak with a National Fuel Representative to talk about the resources available to help manage your energy costs. We are available to assist customers with invoice questions as well as: \n·        EAP Application/Enrollment \n·        Deferred Payment Agreements \n·        Budget Plan \n·        Neighbor for Neighbor
URL:https://www.nationalfuel.com/event/erie-county-heap-office-7/2024-12-30/
LOCATION:Erie County HEAP Office\, 460 Main St\, Buffalo\, NY\, 14202\, United States
CATEGORIES:New York
ORGANIZER;CN="National Fuel Outreach":MAILTO:NFG_Outreach@natfuel.com
END:VEVENT
END:VCALENDAR